BEGIN:VCALENDAR
VERSION:2.0
PRODID:-//The Garage Community Center - ECPv6.15.17.1//NONSGML v1.0//EN
CALSCALE:GREGORIAN
METHOD:PUBLISH
X-ORIGINAL-URL:https://thegaragelagrange.com
X-WR-CALDESC:Events for The Garage Community Center
REFRESH-INTERVAL;VALUE=DURATION:PT1H
X-Robots-Tag:noindex
X-PUBLISHED-TTL:PT1H
BEGIN:VTIMEZONE
TZID:America/Indiana/Indianapolis
BEGIN:DAYLIGHT
TZOFFSETFROM:-0500
TZOFFSETTO:-0400
TZNAME:EDT
DTSTART:20220313T070000
END:DAYLIGHT
BEGIN:STANDARD
TZOFFSETFROM:-0400
TZOFFSETTO:-0500
TZNAME:EST
DTSTART:20221106T060000
END:STANDARD
BEGIN:DAYLIGHT
TZOFFSETFROM:-0500
TZOFFSETTO:-0400
TZNAME:EDT
DTSTART:20230312T070000
END:DAYLIGHT
BEGIN:STANDARD
TZOFFSETFROM:-0400
TZOFFSETTO:-0500
TZNAME:EST
DTSTART:20231105T060000
END:STANDARD
BEGIN:DAYLIGHT
TZOFFSETFROM:-0500
TZOFFSETTO:-0400
TZNAME:EDT
DTSTART:20240310T070000
END:DAYLIGHT
BEGIN:STANDARD
TZOFFSETFROM:-0400
TZOFFSETTO:-0500
TZNAME:EST
DTSTART:20241103T060000
END:STANDARD
END:VTIMEZONE
BEGIN:VEVENT
DTSTART;TZID=America/Indiana/Indianapolis:20231005T163000
DTEND;TZID=America/Indiana/Indianapolis:20231005T190000
DTSTAMP:20260420T220142
CREATED:20230907T190128Z
LAST-MODIFIED:20230925T221721Z
UID:10000605-1696523400-1696532400@thegaragelagrange.com
SUMMARY:Corn School Exhibits
DESCRIPTION:Corn School Exhibits \nArt Projects \nPublic event
URL:https://thegaragelagrange.com/event/master-gardener-corn-school-exhibits/2023-10-05/
LOCATION:The Garage\, 111 W Lafayette St.\, LaGrange\, IN\, 46746\, United States
END:VEVENT
BEGIN:VEVENT
DTSTART;TZID=America/Indiana/Indianapolis:20231005T163000
DTEND;TZID=America/Indiana/Indianapolis:20231005T190000
DTSTAMP:20260420T220142
CREATED:20230907T185823Z
LAST-MODIFIED:20230925T215647Z
UID:10000544-1696523400-1696532400@thegaragelagrange.com
SUMMARY:Creation Station
DESCRIPTION:Creation Station public event organized by: LaGrange County Arts \n4:30pm – 7:00pm \nHeld on the following dates: 10/3\, 10/4\, 10/5\, 10/6
URL:https://thegaragelagrange.com/event/creation-station/2023-10-05/
LOCATION:The Garage\, 111 W Lafayette St.\, LaGrange\, IN\, 46746\, United States
END:VEVENT
BEGIN:VEVENT
DTSTART;TZID=America/Indiana/Indianapolis:20231004T163000
DTEND;TZID=America/Indiana/Indianapolis:20231004T190000
DTSTAMP:20260420T220142
CREATED:20230907T190128Z
LAST-MODIFIED:20230925T221721Z
UID:10000604-1696437000-1696446000@thegaragelagrange.com
SUMMARY:Corn School Exhibits
DESCRIPTION:Corn School Exhibits \nArt Projects \nPublic event
URL:https://thegaragelagrange.com/event/master-gardener-corn-school-exhibits/2023-10-04/
LOCATION:The Garage\, 111 W Lafayette St.\, LaGrange\, IN\, 46746\, United States
END:VEVENT
BEGIN:VEVENT
DTSTART;TZID=America/Indiana/Indianapolis:20231004T163000
DTEND;TZID=America/Indiana/Indianapolis:20231004T190000
DTSTAMP:20260420T220142
CREATED:20230907T185823Z
LAST-MODIFIED:20230925T215647Z
UID:10000543-1696437000-1696446000@thegaragelagrange.com
SUMMARY:Creation Station
DESCRIPTION:Creation Station public event organized by: LaGrange County Arts \n4:30pm – 7:00pm \nHeld on the following dates: 10/3\, 10/4\, 10/5\, 10/6
URL:https://thegaragelagrange.com/event/creation-station/2023-10-04/
LOCATION:The Garage\, 111 W Lafayette St.\, LaGrange\, IN\, 46746\, United States
END:VEVENT
BEGIN:VEVENT
DTSTART;TZID=America/Indiana/Indianapolis:20231003T163000
DTEND;TZID=America/Indiana/Indianapolis:20231003T190000
DTSTAMP:20260420T220142
CREATED:20230907T190128Z
LAST-MODIFIED:20230925T221721Z
UID:10000603-1696350600-1696359600@thegaragelagrange.com
SUMMARY:Corn School Exhibits
DESCRIPTION:Corn School Exhibits \nArt Projects \nPublic event
URL:https://thegaragelagrange.com/event/master-gardener-corn-school-exhibits/2023-10-03/
LOCATION:The Garage\, 111 W Lafayette St.\, LaGrange\, IN\, 46746\, United States
END:VEVENT
BEGIN:VEVENT
DTSTART;TZID=America/Indiana/Indianapolis:20231003T163000
DTEND;TZID=America/Indiana/Indianapolis:20231003T190000
DTSTAMP:20260420T220142
CREATED:20230907T185823Z
LAST-MODIFIED:20230925T215647Z
UID:10000542-1696350600-1696359600@thegaragelagrange.com
SUMMARY:Creation Station
DESCRIPTION:Creation Station public event organized by: LaGrange County Arts \n4:30pm – 7:00pm \nHeld on the following dates: 10/3\, 10/4\, 10/5\, 10/6
URL:https://thegaragelagrange.com/event/creation-station/2023-10-03/
LOCATION:The Garage\, 111 W Lafayette St.\, LaGrange\, IN\, 46746\, United States
END:VEVENT
BEGIN:VEVENT
DTSTART;TZID=America/Indiana/Indianapolis:20231002T093000
DTEND;TZID=America/Indiana/Indianapolis:20231002T163000
DTSTAMP:20260420T220142
CREATED:20230907T183918Z
LAST-MODIFIED:20230925T220009Z
UID:10000534-1696239000-1696264200@thegaragelagrange.com
SUMMARY:4 County Prayer & Praise Rally
DESCRIPTION:Public event presented by: Stirred Up Ministries \n4 County Prayer & Praise Rally \n9:30am – 4:30pm \nNOTE: The poster shows an incorrect date\, it is now 10/2.
URL:https://thegaragelagrange.com/event/4-county-prayer-praise-rally/
LOCATION:The Garage\, 111 W Lafayette St.\, LaGrange\, IN\, 46746\, United States
END:VEVENT
BEGIN:VEVENT
DTSTART;TZID=America/Indiana/Indianapolis:20231001T110000
DTEND;TZID=America/Indiana/Indianapolis:20231001T170000
DTSTAMP:20260420T220142
CREATED:20230907T185313Z
LAST-MODIFIED:20230907T185515Z
UID:10000541-1696158000-1696179600@thegaragelagrange.com
SUMMARY:Corn School Queen Tea Party
DESCRIPTION:Corn School Queen Tea Party presented by Tri Kappa \n11:00am – 5:00pm \nClick on flyer for details and entry form.
URL:https://thegaragelagrange.com/event/corn-school-queen-tea-party/
LOCATION:The Garage\, 111 W Lafayette St.\, LaGrange\, IN\, 46746\, United States
END:VEVENT
BEGIN:VEVENT
DTSTART;VALUE=DATE:20230930
DTEND;VALUE=DATE:20231001
DTSTAMP:20260420T220142
CREATED:20230907T185035Z
LAST-MODIFIED:20251123T185631Z
UID:10000540-1696032000-1696118399@thegaragelagrange.com
SUMMARY:Private Rental
DESCRIPTION:This date is booked for a private event.
URL:https://thegaragelagrange.com/event/private-event-3/
LOCATION:The Garage\, 111 W Lafayette St.\, LaGrange\, IN\, 46746\, United States
CATEGORIES:Private
END:VEVENT
BEGIN:VEVENT
DTSTART;TZID=America/Indiana/Indianapolis:20230928T151500
DTEND;TZID=America/Indiana/Indianapolis:20230928T190000
DTSTAMP:20260420T220142
CREATED:20230907T181553Z
LAST-MODIFIED:20251123T190654Z
UID:10000274-1695914100-1695927600@thegaragelagrange.com
SUMMARY:Club Hope
DESCRIPTION:After school program for grades 7-12 \n3:15pm – 7:00pm \nHeld on the following 2023 dates: 9/14\, 9/21\, 9/28\, 10/12\, 10/19\, 10/26\, 11/2\, 11/9\, 11/16\,11/30\, 12/7\, 12/14\, 12/21
URL:https://thegaragelagrange.com/event/club-hope/2023-09-28/
LOCATION:The Garage\, 111 W Lafayette St.\, LaGrange\, IN\, 46746\, United States
END:VEVENT
BEGIN:VEVENT
DTSTART;TZID=America/Indiana/Indianapolis:20230928T080000
DTEND;TZID=America/Indiana/Indianapolis:20230928T120000
DTSTAMP:20260420T220142
CREATED:20230907T180744Z
LAST-MODIFIED:20230907T182453Z
UID:10000013-1695888000-1695902400@thegaragelagrange.com
SUMMARY:Freedom Academy
DESCRIPTION:Freedom Academy Private Training \n8:00am – 12:00pm \nHeld on the following dates: 9/14\, 9/21\, 9/28
URL:https://thegaragelagrange.com/event/freedom-academy/2023-09-28/
LOCATION:The Garage\, 111 W Lafayette St.\, LaGrange\, IN\, 46746\, United States
END:VEVENT
BEGIN:VEVENT
DTSTART;TZID=America/Indiana/Indianapolis:20230925T173000
DTEND;TZID=America/Indiana/Indianapolis:20230925T190000
DTSTAMP:20260420T220142
CREATED:20230907T184647Z
LAST-MODIFIED:20230907T184837Z
UID:10000536-1695663000-1695668400@thegaragelagrange.com
SUMMARY:Meals of Hope
DESCRIPTION:Meals of Hope board meeting \n5:30pm – 7:00pm \nMeetings held on: 9/25\, 10/23\, 11/27\, 12/11
URL:https://thegaragelagrange.com/event/meals-of-hope/2023-09-25/
LOCATION:The Garage\, 111 W Lafayette St.\, LaGrange\, IN\, 46746\, United States
END:VEVENT
BEGIN:VEVENT
DTSTART;TZID=America/Indiana/Indianapolis:20230924T133000
DTEND;TZID=America/Indiana/Indianapolis:20230924T133000
DTSTAMP:20260420T220142
CREATED:20230907T184224Z
LAST-MODIFIED:20230907T184305Z
UID:10000535-1695562200-1695562200@thegaragelagrange.com
SUMMARY:LaGrange County Arts
DESCRIPTION:LaGrange County Arts open meeting. \n1:30pm \nClick on flyer for details.
URL:https://thegaragelagrange.com/event/lagrange-county-arts/
LOCATION:The Garage\, 111 W Lafayette St.\, LaGrange\, IN\, 46746\, United States
END:VEVENT
BEGIN:VEVENT
DTSTART;TZID=America/Indiana/Indianapolis:20230921T151500
DTEND;TZID=America/Indiana/Indianapolis:20230921T190000
DTSTAMP:20260420T220142
CREATED:20230907T181553Z
LAST-MODIFIED:20251123T190654Z
UID:10000273-1695309300-1695322800@thegaragelagrange.com
SUMMARY:Club Hope
DESCRIPTION:After school program for grades 7-12 \n3:15pm – 7:00pm \nHeld on the following 2023 dates: 9/14\, 9/21\, 9/28\, 10/12\, 10/19\, 10/26\, 11/2\, 11/9\, 11/16\,11/30\, 12/7\, 12/14\, 12/21
URL:https://thegaragelagrange.com/event/club-hope/2023-09-21/
LOCATION:The Garage\, 111 W Lafayette St.\, LaGrange\, IN\, 46746\, United States
END:VEVENT
BEGIN:VEVENT
DTSTART;TZID=America/Indiana/Indianapolis:20230921T080000
DTEND;TZID=America/Indiana/Indianapolis:20230921T120000
DTSTAMP:20260420T220142
CREATED:20230907T180744Z
LAST-MODIFIED:20230907T182453Z
UID:10000012-1695283200-1695297600@thegaragelagrange.com
SUMMARY:Freedom Academy
DESCRIPTION:Freedom Academy Private Training \n8:00am – 12:00pm \nHeld on the following dates: 9/14\, 9/21\, 9/28
URL:https://thegaragelagrange.com/event/freedom-academy/2023-09-21/
LOCATION:The Garage\, 111 W Lafayette St.\, LaGrange\, IN\, 46746\, United States
END:VEVENT
BEGIN:VEVENT
DTSTART;TZID=America/Indiana/Indianapolis:20230918T183000
DTEND;TZID=America/Indiana/Indianapolis:20230918T183000
DTSTAMP:20260420T220142
CREATED:20230907T183455Z
LAST-MODIFIED:20230907T183548Z
UID:10000533-1695061800-1695061800@thegaragelagrange.com
SUMMARY:Succulent Class
DESCRIPTION:6:30pm \nClick on flyer for details and how to sign up for class.
URL:https://thegaragelagrange.com/event/succulent-class/
LOCATION:The Garage\, 111 W Lafayette St.\, LaGrange\, IN\, 46746\, United States
END:VEVENT
BEGIN:VEVENT
DTSTART;TZID=America/Indiana/Indianapolis:20230914T151500
DTEND;TZID=America/Indiana/Indianapolis:20230914T190000
DTSTAMP:20260420T220142
CREATED:20230907T181553Z
LAST-MODIFIED:20251123T190654Z
UID:10000272-1694704500-1694718000@thegaragelagrange.com
SUMMARY:Club Hope
DESCRIPTION:After school program for grades 7-12 \n3:15pm – 7:00pm \nHeld on the following 2023 dates: 9/14\, 9/21\, 9/28\, 10/12\, 10/19\, 10/26\, 11/2\, 11/9\, 11/16\,11/30\, 12/7\, 12/14\, 12/21
URL:https://thegaragelagrange.com/event/club-hope/2023-09-14/2/
LOCATION:The Garage\, 111 W Lafayette St.\, LaGrange\, IN\, 46746\, United States
END:VEVENT
BEGIN:VEVENT
DTSTART;TZID=America/Indiana/Indianapolis:20230914T080000
DTEND;TZID=America/Indiana/Indianapolis:20230914T170000
DTSTAMP:20260420T220142
CREATED:20230907T181553Z
LAST-MODIFIED:20251123T190654Z
UID:10000616-1694678400-1694710800@thegaragelagrange.com
SUMMARY:Club Hope
DESCRIPTION:After school program for grades 7-12 \n3:15pm – 7:00pm \nHeld on the following 2023 dates: 9/14\, 9/21\, 9/28\, 10/12\, 10/19\, 10/26\, 11/2\, 11/9\, 11/16\,11/30\, 12/7\, 12/14\, 12/21
URL:https://thegaragelagrange.com/event/club-hope/2023-09-14/1/
LOCATION:The Garage\, 111 W Lafayette St.\, LaGrange\, IN\, 46746\, United States
END:VEVENT
BEGIN:VEVENT
DTSTART;TZID=America/Indiana/Indianapolis:20230914T080000
DTEND;TZID=America/Indiana/Indianapolis:20230914T120000
DTSTAMP:20260420T220142
CREATED:20230907T180744Z
LAST-MODIFIED:20230907T182453Z
UID:10000011-1694678400-1694692800@thegaragelagrange.com
SUMMARY:Freedom Academy
DESCRIPTION:Freedom Academy Private Training \n8:00am – 12:00pm \nHeld on the following dates: 9/14\, 9/21\, 9/28
URL:https://thegaragelagrange.com/event/freedom-academy/2023-09-14/
LOCATION:The Garage\, 111 W Lafayette St.\, LaGrange\, IN\, 46746\, United States
END:VEVENT
BEGIN:VEVENT
DTSTART;TZID=America/Indiana/Indianapolis:20230913T113000
DTEND;TZID=America/Indiana/Indianapolis:20230913T130000
DTSTAMP:20260420T220142
CREATED:20230907T180202Z
LAST-MODIFIED:20230907T180202Z
UID:10000006-1694604600-1694610000@thegaragelagrange.com
SUMMARY:The Garage Committee Meeting
DESCRIPTION:The Garage Committee Meeting from 11:30am to 1:00pm.
URL:https://thegaragelagrange.com/event/the-garage-committee-meeting/2023-09-13/
LOCATION:The Garage\, 111 W Lafayette St.\, LaGrange\, IN\, 46746\, United States
END:VEVENT
BEGIN:VEVENT
DTSTART;TZID=America/Indiana/Indianapolis:20230910T060000
DTEND;TZID=America/Indiana/Indianapolis:20230910T140000
DTSTAMP:20260420T220142
CREATED:20230907T174449Z
LAST-MODIFIED:20251123T185626Z
UID:10000005-1694325600-1694354400@thegaragelagrange.com
SUMMARY:Private Rental
DESCRIPTION:This date is booked for a private event from 6:00am – 2:00pm.
URL:https://thegaragelagrange.com/event/private-event-2/
LOCATION:The Garage\, 111 W Lafayette St.\, LaGrange\, IN\, 46746\, United States
CATEGORIES:Private
END:VEVENT
BEGIN:VEVENT
DTSTART;VALUE=DATE:20230909
DTEND;VALUE=DATE:20230910
DTSTAMP:20260420T220142
CREATED:20230907T174056Z
LAST-MODIFIED:20251123T185639Z
UID:10000004-1694217600-1694303999@thegaragelagrange.com
SUMMARY:Private Rental
DESCRIPTION:This date is booked for a private event.
URL:https://thegaragelagrange.com/event/private-event/
LOCATION:The Garage\, 111 W Lafayette St.\, LaGrange\, IN\, 46746\, United States
CATEGORIES:Private
END:VEVENT
END:VCALENDAR