BEGIN:VCALENDAR
VERSION:2.0
PRODID:-//The Garage Community Center - ECPv6.15.17.1//NONSGML v1.0//EN
CALSCALE:GREGORIAN
METHOD:PUBLISH
X-ORIGINAL-URL:https://thegaragelagrange.com
X-WR-CALDESC:Events for The Garage Community Center
REFRESH-INTERVAL;VALUE=DURATION:PT1H
X-Robots-Tag:noindex
X-PUBLISHED-TTL:PT1H
BEGIN:VTIMEZONE
TZID:America/Indiana/Indianapolis
BEGIN:DAYLIGHT
TZOFFSETFROM:-0500
TZOFFSETTO:-0400
TZNAME:EDT
DTSTART:20230312T070000
END:DAYLIGHT
BEGIN:STANDARD
TZOFFSETFROM:-0400
TZOFFSETTO:-0500
TZNAME:EST
DTSTART:20231105T060000
END:STANDARD
BEGIN:DAYLIGHT
TZOFFSETFROM:-0500
TZOFFSETTO:-0400
TZNAME:EDT
DTSTART:20240310T070000
END:DAYLIGHT
BEGIN:STANDARD
TZOFFSETFROM:-0400
TZOFFSETTO:-0500
TZNAME:EST
DTSTART:20241103T060000
END:STANDARD
BEGIN:DAYLIGHT
TZOFFSETFROM:-0500
TZOFFSETTO:-0400
TZNAME:EDT
DTSTART:20250309T070000
END:DAYLIGHT
BEGIN:STANDARD
TZOFFSETFROM:-0400
TZOFFSETTO:-0500
TZNAME:EST
DTSTART:20251102T060000
END:STANDARD
END:VTIMEZONE
BEGIN:VEVENT
DTSTART;TZID=America/Indiana/Indianapolis:20240323T100000
DTEND;TZID=America/Indiana/Indianapolis:20240323T140000
DTSTAMP:20260420T153501
CREATED:20240110T211421Z
LAST-MODIFIED:20240110T211421Z
UID:10000676-1711188000-1711202400@thegaragelagrange.com
SUMMARY:Spring Craft and Vendor Show
DESCRIPTION:
URL:https://thegaragelagrange.com/event/spring-craft-and-vendor-show/
LOCATION:The Garage\, 111 W Lafayette St.\, LaGrange\, IN\, 46746\, United States
END:VEVENT
BEGIN:VEVENT
DTSTART;TZID=America/Indiana/Indianapolis:20240321T153000
DTEND;TZID=America/Indiana/Indianapolis:20240321T173000
DTSTAMP:20260420T153501
CREATED:20240209T110237Z
LAST-MODIFIED:20240209T110237Z
UID:10000713-1711035000-1711042200@thegaragelagrange.com
SUMMARY:Community Harvest
DESCRIPTION:
URL:https://thegaragelagrange.com/event/community-harvest-3/
LOCATION:The Garage\, 111 W Lafayette St.\, LaGrange\, IN\, 46746\, United States
END:VEVENT
BEGIN:VEVENT
DTSTART;TZID=America/Indiana/Indianapolis:20240321T151500
DTEND;TZID=America/Indiana/Indianapolis:20240321T190000
DTSTAMP:20260420T153501
CREATED:20230907T181553Z
LAST-MODIFIED:20251123T190654Z
UID:10000628-1711034100-1711047600@thegaragelagrange.com
SUMMARY:Club Hope
DESCRIPTION:After school program for grades 7-12 \n3:15pm – 7:00pm \nHeld on the following 2023 dates: 9/14\, 9/21\, 9/28\, 10/12\, 10/19\, 10/26\, 11/2\, 11/9\, 11/16\,11/30\, 12/7\, 12/14\, 12/21
URL:https://thegaragelagrange.com/event/club-hope/2024-03-21/
LOCATION:The Garage\, 111 W Lafayette St.\, LaGrange\, IN\, 46746\, United States
END:VEVENT
BEGIN:VEVENT
DTSTART;TZID=America/Indiana/Indianapolis:20240318T180000
DTEND;TZID=America/Indiana/Indianapolis:20240318T200000
DTSTAMP:20260420T153501
CREATED:20240108T152626Z
LAST-MODIFIED:20240108T152626Z
UID:10000662-1710784800-1710792000@thegaragelagrange.com
SUMMARY:Reason 4 Hope Board Meeting
DESCRIPTION:
URL:https://thegaragelagrange.com/event/reason-4-hope-board-meeting-3/
LOCATION:The Garage\, 111 W Lafayette St.\, LaGrange\, IN\, 46746\, United States
END:VEVENT
BEGIN:VEVENT
DTSTART;TZID=America/Indiana/Indianapolis:20240317T140000
DTEND;TZID=America/Indiana/Indianapolis:20240317T170000
DTSTAMP:20260420T153501
CREATED:20240126T120450Z
LAST-MODIFIED:20240212T125144Z
UID:10000694-1710684000-1710694800@thegaragelagrange.com
SUMMARY:LaGrange County Arts Meeting
DESCRIPTION:
URL:https://thegaragelagrange.com/event/lagrange-county-arts-meeting-2/
LOCATION:The Garage\, 111 W Lafayette St.\, LaGrange\, IN\, 46746\, United States
END:VEVENT
BEGIN:VEVENT
DTSTART;TZID=America/Indiana/Indianapolis:20240315T163000
DTEND;TZID=America/Indiana/Indianapolis:20240315T190000
DTSTAMP:20260420T153501
CREATED:20240222T110450Z
LAST-MODIFIED:20240222T110450Z
UID:10000734-1710520200-1710529200@thegaragelagrange.com
SUMMARY:Community Serving Community Free Dinner
DESCRIPTION:
URL:https://thegaragelagrange.com/event/community-serving-community-free-dinner/
LOCATION:The Garage\, 111 W Lafayette St.\, LaGrange\, IN\, 46746\, United States
END:VEVENT
BEGIN:VEVENT
DTSTART;TZID=America/Indiana/Indianapolis:20240314T151500
DTEND;TZID=America/Indiana/Indianapolis:20240314T190000
DTSTAMP:20260420T153501
CREATED:20230907T181553Z
LAST-MODIFIED:20251123T190654Z
UID:10000627-1710429300-1710442800@thegaragelagrange.com
SUMMARY:Club Hope
DESCRIPTION:After school program for grades 7-12 \n3:15pm – 7:00pm \nHeld on the following 2023 dates: 9/14\, 9/21\, 9/28\, 10/12\, 10/19\, 10/26\, 11/2\, 11/9\, 11/16\,11/30\, 12/7\, 12/14\, 12/21
URL:https://thegaragelagrange.com/event/club-hope/2024-03-14/
LOCATION:The Garage\, 111 W Lafayette St.\, LaGrange\, IN\, 46746\, United States
END:VEVENT
BEGIN:VEVENT
DTSTART;TZID=America/Indiana/Indianapolis:20240313T110000
DTEND;TZID=America/Indiana/Indianapolis:20240313T130000
DTSTAMP:20260420T153501
CREATED:20240108T152540Z
LAST-MODIFIED:20240108T152540Z
UID:10000661-1710327600-1710334800@thegaragelagrange.com
SUMMARY:The Garage Committee Meeting
DESCRIPTION:
URL:https://thegaragelagrange.com/event/the-garage-committee-meeting-3/
LOCATION:The Garage\, 111 W Lafayette St.\, LaGrange\, IN\, 46746\, United States
END:VEVENT
BEGIN:VEVENT
DTSTART;TZID=America/Indiana/Indianapolis:20240310T140000
DTEND;TZID=America/Indiana/Indianapolis:20240310T233000
DTSTAMP:20260420T153501
CREATED:20240126T120349Z
LAST-MODIFIED:20251123T184544Z
UID:10000693-1710079200-1710113400@thegaragelagrange.com
SUMMARY:Private Rental
DESCRIPTION:
URL:https://thegaragelagrange.com/event/private-event-43/
LOCATION:The Garage\, 111 W Lafayette St.\, LaGrange\, IN\, 46746\, United States
CATEGORIES:Private
END:VEVENT
BEGIN:VEVENT
DTSTART;TZID=America/Indiana/Indianapolis:20240309T060000
DTEND;TZID=America/Indiana/Indianapolis:20240309T233000
DTSTAMP:20260420T153501
CREATED:20240126T120253Z
LAST-MODIFIED:20251123T184555Z
UID:10000692-1709964000-1710027000@thegaragelagrange.com
SUMMARY:Private Rental
DESCRIPTION:
URL:https://thegaragelagrange.com/event/private-event-42/
LOCATION:The Garage\, 111 W Lafayette St.\, LaGrange\, IN\, 46746\, United States
CATEGORIES:Private
END:VEVENT
BEGIN:VEVENT
DTSTART;TZID=America/Indiana/Indianapolis:20240308T150000
DTEND;TZID=America/Indiana/Indianapolis:20240308T233000
DTSTAMP:20260420T153501
CREATED:20240304T172858Z
LAST-MODIFIED:20251123T185020Z
UID:10000745-1709910000-1709940600@thegaragelagrange.com
SUMMARY:Private Rental
DESCRIPTION:
URL:https://thegaragelagrange.com/event/private-event-34/
LOCATION:The Garage\, 111 W Lafayette St.\, LaGrange\, IN\, 46746\, United States
CATEGORIES:Private
END:VEVENT
BEGIN:VEVENT
DTSTART;TZID=America/Indiana/Indianapolis:20240307T153000
DTEND;TZID=America/Indiana/Indianapolis:20240307T173000
DTSTAMP:20260420T153501
CREATED:20240209T105931Z
LAST-MODIFIED:20240209T105931Z
UID:10000712-1709825400-1709832600@thegaragelagrange.com
SUMMARY:Community Harvest
DESCRIPTION:
URL:https://thegaragelagrange.com/event/community-harvest-2/
LOCATION:The Garage\, 111 W Lafayette St.\, LaGrange\, IN\, 46746\, United States
END:VEVENT
BEGIN:VEVENT
DTSTART;TZID=America/Indiana/Indianapolis:20240307T151500
DTEND;TZID=America/Indiana/Indianapolis:20240307T190000
DTSTAMP:20260420T153501
CREATED:20230907T181553Z
LAST-MODIFIED:20251123T190654Z
UID:10000626-1709824500-1709838000@thegaragelagrange.com
SUMMARY:Club Hope
DESCRIPTION:After school program for grades 7-12 \n3:15pm – 7:00pm \nHeld on the following 2023 dates: 9/14\, 9/21\, 9/28\, 10/12\, 10/19\, 10/26\, 11/2\, 11/9\, 11/16\,11/30\, 12/7\, 12/14\, 12/21
URL:https://thegaragelagrange.com/event/club-hope/2024-03-07/
LOCATION:The Garage\, 111 W Lafayette St.\, LaGrange\, IN\, 46746\, United States
END:VEVENT
BEGIN:VEVENT
DTSTART;TZID=America/Indiana/Indianapolis:20240303T140000
DTEND;TZID=America/Indiana/Indianapolis:20240303T170000
DTSTAMP:20260420T153501
CREATED:20240110T211225Z
LAST-MODIFIED:20240110T211225Z
UID:10000674-1709474400-1709485200@thegaragelagrange.com
SUMMARY:Cookies and Canvas Event
DESCRIPTION:
URL:https://thegaragelagrange.com/event/cookies-and-canvas-event/
LOCATION:The Garage\, 111 W Lafayette St.\, LaGrange\, IN\, 46746\, United States
END:VEVENT
BEGIN:VEVENT
DTSTART;TZID=America/Indiana/Indianapolis:20240302T060000
DTEND;TZID=America/Indiana/Indianapolis:20240302T233000
DTSTAMP:20260420T153501
CREATED:20240126T120142Z
LAST-MODIFIED:20251123T184549Z
UID:10000691-1709359200-1709422200@thegaragelagrange.com
SUMMARY:Private Rental
DESCRIPTION:
URL:https://thegaragelagrange.com/event/private-event-41/
LOCATION:The Garage\, 111 W Lafayette St.\, LaGrange\, IN\, 46746\, United States
CATEGORIES:Private
END:VEVENT
BEGIN:VEVENT
DTSTART;TZID=America/Indiana/Indianapolis:20240229T151500
DTEND;TZID=America/Indiana/Indianapolis:20240229T190000
DTSTAMP:20260420T153501
CREATED:20230907T181553Z
LAST-MODIFIED:20251123T190654Z
UID:10000625-1709219700-1709233200@thegaragelagrange.com
SUMMARY:Club Hope
DESCRIPTION:After school program for grades 7-12 \n3:15pm – 7:00pm \nHeld on the following 2023 dates: 9/14\, 9/21\, 9/28\, 10/12\, 10/19\, 10/26\, 11/2\, 11/9\, 11/16\,11/30\, 12/7\, 12/14\, 12/21
URL:https://thegaragelagrange.com/event/club-hope/2024-02-29/
LOCATION:The Garage\, 111 W Lafayette St.\, LaGrange\, IN\, 46746\, United States
END:VEVENT
BEGIN:VEVENT
DTSTART;TZID=America/Indiana/Indianapolis:20240226T173000
DTEND;TZID=America/Indiana/Indianapolis:20240226T190000
DTSTAMP:20260420T153501
CREATED:20240108T152334Z
LAST-MODIFIED:20240108T152334Z
UID:10000660-1708968600-1708974000@thegaragelagrange.com
SUMMARY:Meals of Hope Board Meeting
DESCRIPTION:
URL:https://thegaragelagrange.com/event/meals-of-hope-board-meeting/
LOCATION:The Garage\, 111 W Lafayette St.\, LaGrange\, IN\, 46746\, United States
END:VEVENT
BEGIN:VEVENT
DTSTART;TZID=America/Indiana/Indianapolis:20240225T060000
DTEND;TZID=America/Indiana/Indianapolis:20240225T233000
DTSTAMP:20260420T153501
CREATED:20240110T211114Z
LAST-MODIFIED:20251123T185045Z
UID:10000673-1708840800-1708903800@thegaragelagrange.com
SUMMARY:Private Rental
DESCRIPTION:
URL:https://thegaragelagrange.com/event/private-event-29/
LOCATION:The Garage\, 111 W Lafayette St.\, LaGrange\, IN\, 46746\, United States
CATEGORIES:Private
END:VEVENT
BEGIN:VEVENT
DTSTART;TZID=America/Indiana/Indianapolis:20240224T060000
DTEND;TZID=America/Indiana/Indianapolis:20240224T233000
DTSTAMP:20260420T153501
CREATED:20240108T152208Z
LAST-MODIFIED:20251123T185112Z
UID:10000658-1708754400-1708817400@thegaragelagrange.com
SUMMARY:Private Rental
DESCRIPTION:
URL:https://thegaragelagrange.com/event/private-event-30/
LOCATION:The Garage\, 111 W Lafayette St.\, LaGrange\, IN\, 46746\, United States
CATEGORIES:Private
END:VEVENT
BEGIN:VEVENT
DTSTART;TZID=America/Indiana/Indianapolis:20240222T153000
DTEND;TZID=America/Indiana/Indianapolis:20240222T173000
DTSTAMP:20260420T153501
CREATED:20240209T105322Z
LAST-MODIFIED:20240209T105322Z
UID:10000709-1708615800-1708623000@thegaragelagrange.com
SUMMARY:Community Harvest
DESCRIPTION:
URL:https://thegaragelagrange.com/event/community-harvest/
LOCATION:The Garage\, 111 W Lafayette St.\, LaGrange\, IN\, 46746\, United States
END:VEVENT
BEGIN:VEVENT
DTSTART;TZID=America/Indiana/Indianapolis:20240222T151500
DTEND;TZID=America/Indiana/Indianapolis:20240222T190000
DTSTAMP:20260420T153501
CREATED:20230907T181553Z
LAST-MODIFIED:20251123T190654Z
UID:10000624-1708614900-1708628400@thegaragelagrange.com
SUMMARY:Club Hope
DESCRIPTION:After school program for grades 7-12 \n3:15pm – 7:00pm \nHeld on the following 2023 dates: 9/14\, 9/21\, 9/28\, 10/12\, 10/19\, 10/26\, 11/2\, 11/9\, 11/16\,11/30\, 12/7\, 12/14\, 12/21
URL:https://thegaragelagrange.com/event/club-hope/2024-02-22/
LOCATION:The Garage\, 111 W Lafayette St.\, LaGrange\, IN\, 46746\, United States
END:VEVENT
BEGIN:VEVENT
DTSTART;TZID=America/Indiana/Indianapolis:20240219T180000
DTEND;TZID=America/Indiana/Indianapolis:20240219T200000
DTSTAMP:20260420T153501
CREATED:20240108T152247Z
LAST-MODIFIED:20240108T152247Z
UID:10000659-1708365600-1708372800@thegaragelagrange.com
SUMMARY:Reason 4 Hope Board Meeting
DESCRIPTION:
URL:https://thegaragelagrange.com/event/reason-4-hope-board-meeting-2/
LOCATION:The Garage\, 111 W Lafayette St.\, LaGrange\, IN\, 46746\, United States
END:VEVENT
BEGIN:VEVENT
DTSTART;TZID=America/Indiana/Indianapolis:20240218T140000
DTEND;TZID=America/Indiana/Indianapolis:20240218T170000
DTSTAMP:20260420T153501
CREATED:20240126T120036Z
LAST-MODIFIED:20240212T125032Z
UID:10000690-1708264800-1708275600@thegaragelagrange.com
SUMMARY:LaGrange County Arts Meeting
DESCRIPTION:
URL:https://thegaragelagrange.com/event/lagrange-county-arts-meeting/
LOCATION:The Garage\, 111 W Lafayette St.\, LaGrange\, IN\, 46746\, United States
END:VEVENT
BEGIN:VEVENT
DTSTART;TZID=America/Indiana/Indianapolis:20240215T151500
DTEND;TZID=America/Indiana/Indianapolis:20240215T190000
DTSTAMP:20260420T153501
CREATED:20230907T181553Z
LAST-MODIFIED:20251123T190654Z
UID:10000623-1708010100-1708023600@thegaragelagrange.com
SUMMARY:Club Hope
DESCRIPTION:After school program for grades 7-12 \n3:15pm – 7:00pm \nHeld on the following 2023 dates: 9/14\, 9/21\, 9/28\, 10/12\, 10/19\, 10/26\, 11/2\, 11/9\, 11/16\,11/30\, 12/7\, 12/14\, 12/21
URL:https://thegaragelagrange.com/event/club-hope/2024-02-15/
LOCATION:The Garage\, 111 W Lafayette St.\, LaGrange\, IN\, 46746\, United States
END:VEVENT
BEGIN:VEVENT
DTSTART;TZID=America/Indiana/Indianapolis:20240215T043000
DTEND;TZID=America/Indiana/Indianapolis:20240215T120000
DTSTAMP:20260420T153501
CREATED:20240214T111443Z
LAST-MODIFIED:20251123T184422Z
UID:10000733-1707971400-1707998400@thegaragelagrange.com
SUMMARY:Private Rental
DESCRIPTION:
URL:https://thegaragelagrange.com/event/private-event-48/
LOCATION:The Garage\, 111 W Lafayette St.\, LaGrange\, IN\, 46746\, United States
CATEGORIES:Private
END:VEVENT
BEGIN:VEVENT
DTSTART;TZID=America/Indiana/Indianapolis:20240211T060000
DTEND;TZID=America/Indiana/Indianapolis:20240211T233000
DTSTAMP:20260420T153501
CREATED:20240126T115936Z
LAST-MODIFIED:20251123T184605Z
UID:10000689-1707631200-1707694200@thegaragelagrange.com
SUMMARY:Private Rental
DESCRIPTION:
URL:https://thegaragelagrange.com/event/private-event-40/
LOCATION:The Garage\, 111 W Lafayette St.\, LaGrange\, IN\, 46746\, United States
CATEGORIES:Private
END:VEVENT
BEGIN:VEVENT
DTSTART;TZID=America/Indiana/Indianapolis:20240210T060000
DTEND;TZID=America/Indiana/Indianapolis:20240210T233000
DTSTAMP:20260420T153501
CREATED:20240110T210903Z
LAST-MODIFIED:20251123T185052Z
UID:10000672-1707544800-1707607800@thegaragelagrange.com
SUMMARY:Private Rental
DESCRIPTION:
URL:https://thegaragelagrange.com/event/private-event-33/
LOCATION:The Garage\, 111 W Lafayette St.\, LaGrange\, IN\, 46746\, United States
CATEGORIES:Private
END:VEVENT
BEGIN:VEVENT
DTSTART;TZID=America/Indiana/Indianapolis:20240208T151500
DTEND;TZID=America/Indiana/Indianapolis:20240208T190000
DTSTAMP:20260420T153501
CREATED:20230907T181553Z
LAST-MODIFIED:20251123T190654Z
UID:10000622-1707405300-1707418800@thegaragelagrange.com
SUMMARY:Club Hope
DESCRIPTION:After school program for grades 7-12 \n3:15pm – 7:00pm \nHeld on the following 2023 dates: 9/14\, 9/21\, 9/28\, 10/12\, 10/19\, 10/26\, 11/2\, 11/9\, 11/16\,11/30\, 12/7\, 12/14\, 12/21
URL:https://thegaragelagrange.com/event/club-hope/2024-02-08/
LOCATION:The Garage\, 111 W Lafayette St.\, LaGrange\, IN\, 46746\, United States
END:VEVENT
BEGIN:VEVENT
DTSTART;TZID=America/Indiana/Indianapolis:20240203T150000
DTEND;TZID=America/Indiana/Indianapolis:20240203T233000
DTSTAMP:20260420T153501
CREATED:20240110T210815Z
LAST-MODIFIED:20251123T185059Z
UID:10000671-1706972400-1707003000@thegaragelagrange.com
SUMMARY:Private Rental
DESCRIPTION:
URL:https://thegaragelagrange.com/event/private-event-32/
LOCATION:The Garage\, 111 W Lafayette St.\, LaGrange\, IN\, 46746\, United States
CATEGORIES:Private
END:VEVENT
BEGIN:VEVENT
DTSTART;TZID=America/Indiana/Indianapolis:20240202T120000
DTEND;TZID=America/Indiana/Indianapolis:20240202T220000
DTSTAMP:20260420T153501
CREATED:20240108T151841Z
LAST-MODIFIED:20240108T151841Z
UID:10000655-1706875200-1706911200@thegaragelagrange.com
SUMMARY:Purple For Parents Event
DESCRIPTION:
URL:https://thegaragelagrange.com/event/purple-for-parents-event/
LOCATION:The Garage\, 111 W Lafayette St.\, LaGrange\, IN\, 46746\, United States
END:VEVENT
END:VCALENDAR