BEGIN:VCALENDAR
VERSION:2.0
PRODID:-//The Garage Community Center - ECPv6.15.17.1//NONSGML v1.0//EN
CALSCALE:GREGORIAN
METHOD:PUBLISH
X-WR-CALNAME:The Garage Community Center
X-ORIGINAL-URL:https://thegaragelagrange.com
X-WR-CALDESC:Events for The Garage Community Center
REFRESH-INTERVAL;VALUE=DURATION:PT1H
X-Robots-Tag:noindex
X-PUBLISHED-TTL:PT1H
BEGIN:VTIMEZONE
TZID:America/Indiana/Indianapolis
BEGIN:DAYLIGHT
TZOFFSETFROM:-0500
TZOFFSETTO:-0400
TZNAME:EDT
DTSTART:20230312T070000
END:DAYLIGHT
BEGIN:STANDARD
TZOFFSETFROM:-0400
TZOFFSETTO:-0500
TZNAME:EST
DTSTART:20231105T060000
END:STANDARD
BEGIN:DAYLIGHT
TZOFFSETFROM:-0500
TZOFFSETTO:-0400
TZNAME:EDT
DTSTART:20240310T070000
END:DAYLIGHT
BEGIN:STANDARD
TZOFFSETFROM:-0400
TZOFFSETTO:-0500
TZNAME:EST
DTSTART:20241103T060000
END:STANDARD
BEGIN:DAYLIGHT
TZOFFSETFROM:-0500
TZOFFSETTO:-0400
TZNAME:EDT
DTSTART:20250309T070000
END:DAYLIGHT
BEGIN:STANDARD
TZOFFSETFROM:-0400
TZOFFSETTO:-0500
TZNAME:EST
DTSTART:20251102T060000
END:STANDARD
END:VTIMEZONE
BEGIN:VEVENT
DTSTART;TZID=America/Indiana/Indianapolis:20240804T060000
DTEND;TZID=America/Indiana/Indianapolis:20240804T170000
DTSTAMP:20260420T093034
CREATED:20240126T122020Z
LAST-MODIFIED:20240126T122020Z
UID:10000701-1722751200-1722790800@thegaragelagrange.com
SUMMARY:Reason 4 Hope Block Party
DESCRIPTION:
URL:https://thegaragelagrange.com/event/reason-4-hope-block-party/
LOCATION:The Garage\, 111 W Lafayette St.\, LaGrange\, IN\, 46746\, United States
END:VEVENT
BEGIN:VEVENT
DTSTART;TZID=America/Indiana/Indianapolis:20240802T150000
DTEND;TZID=America/Indiana/Indianapolis:20240802T233000
DTSTAMP:20260420T093034
CREATED:20240529T151025Z
LAST-MODIFIED:20251123T183750Z
UID:10001307-1722610800-1722641400@thegaragelagrange.com
SUMMARY:Private Rental
DESCRIPTION:
URL:https://thegaragelagrange.com/event/private-event-75/
LOCATION:The Garage\, 111 W Lafayette St.\, LaGrange\, IN\, 46746\, United States
CATEGORIES:Private
END:VEVENT
BEGIN:VEVENT
DTSTART;TZID=America/Indiana/Indianapolis:20240731T133000
DTEND;TZID=America/Indiana/Indianapolis:20240731T173000
DTSTAMP:20260420T093034
CREATED:20240529T150933Z
LAST-MODIFIED:20240529T150933Z
UID:10001306-1722432600-1722447000@thegaragelagrange.com
SUMMARY:Versiti Blood Drive
DESCRIPTION:
URL:https://thegaragelagrange.com/event/versiti-blood-drive/
LOCATION:The Garage\, 111 W Lafayette St.\, LaGrange\, IN\, 46746\, United States
END:VEVENT
BEGIN:VEVENT
DTSTART;TZID=America/Indiana/Indianapolis:20240730T073000
DTEND;TZID=America/Indiana/Indianapolis:20240730T090000
DTSTAMP:20260420T093034
CREATED:20240304T180414Z
LAST-MODIFIED:20240304T180414Z
UID:10000773-1722324600-1722330000@thegaragelagrange.com
SUMMARY:Meals of Hope Packing & Deliveries
DESCRIPTION:
URL:https://thegaragelagrange.com/event/meals-of-hope-packing-deliveries/2024-07-30/
LOCATION:The Garage\, 111 W Lafayette St.\, LaGrange\, IN\, 46746\, United States
END:VEVENT
BEGIN:VEVENT
DTSTART;TZID=America/Indiana/Indianapolis:20240729T173000
DTEND;TZID=America/Indiana/Indianapolis:20240729T190000
DTSTAMP:20260420T093034
CREATED:20240304T180248Z
LAST-MODIFIED:20240304T180248Z
UID:10000764-1722274200-1722279600@thegaragelagrange.com
SUMMARY:Meals of Hope Packing
DESCRIPTION:
URL:https://thegaragelagrange.com/event/meals-of-hope-packing-2/2024-07-29/
LOCATION:The Garage\, 111 W Lafayette St.\, LaGrange\, IN\, 46746\, United States
END:VEVENT
BEGIN:VEVENT
DTSTART;TZID=America/Indiana/Indianapolis:20240727T080000
DTEND;TZID=America/Indiana/Indianapolis:20240727T170000
DTSTAMP:20260420T093034
CREATED:20240529T150841Z
LAST-MODIFIED:20251123T183751Z
UID:10001305-1722067200-1722099600@thegaragelagrange.com
SUMMARY:Private Rental
DESCRIPTION:
URL:https://thegaragelagrange.com/event/private-event-67/
LOCATION:The Garage\, 111 W Lafayette St.\, LaGrange\, IN\, 46746\, United States
CATEGORIES:Private
END:VEVENT
BEGIN:VEVENT
DTSTART;TZID=America/Indiana/Indianapolis:20240724T120000
DTEND;TZID=America/Indiana/Indianapolis:20240724T133000
DTSTAMP:20260420T093034
CREATED:20240126T121420Z
LAST-MODIFIED:20240126T121420Z
UID:10000700-1721822400-1721827800@thegaragelagrange.com
SUMMARY:Woman 2 Woman Roundtable Event by The Chamber of LaGrange County
DESCRIPTION:
URL:https://thegaragelagrange.com/event/woman-2-woman-roundtable-event-by-the-chamber-of-lagrange-county-3/
LOCATION:The Garage\, 111 W Lafayette St.\, LaGrange\, IN\, 46746\, United States
END:VEVENT
BEGIN:VEVENT
DTSTART;TZID=America/Indiana/Indianapolis:20240723T073000
DTEND;TZID=America/Indiana/Indianapolis:20240723T090000
DTSTAMP:20260420T093034
CREATED:20240304T180414Z
LAST-MODIFIED:20240304T180414Z
UID:10000772-1721719800-1721725200@thegaragelagrange.com
SUMMARY:Meals of Hope Packing & Deliveries
DESCRIPTION:
URL:https://thegaragelagrange.com/event/meals-of-hope-packing-deliveries/2024-07-23/
LOCATION:The Garage\, 111 W Lafayette St.\, LaGrange\, IN\, 46746\, United States
END:VEVENT
BEGIN:VEVENT
DTSTART;TZID=America/Indiana/Indianapolis:20240722T173000
DTEND;TZID=America/Indiana/Indianapolis:20240722T190000
DTSTAMP:20260420T093034
CREATED:20240304T180248Z
LAST-MODIFIED:20240304T180248Z
UID:10000763-1721669400-1721674800@thegaragelagrange.com
SUMMARY:Meals of Hope Packing
DESCRIPTION:
URL:https://thegaragelagrange.com/event/meals-of-hope-packing-2/2024-07-22/
LOCATION:The Garage\, 111 W Lafayette St.\, LaGrange\, IN\, 46746\, United States
END:VEVENT
BEGIN:VEVENT
DTSTART;TZID=America/Indiana/Indianapolis:20240721T140000
DTEND;TZID=America/Indiana/Indianapolis:20240721T170000
DTSTAMP:20260420T093034
CREATED:20240416T111827Z
LAST-MODIFIED:20240416T111827Z
UID:10000844-1721570400-1721581200@thegaragelagrange.com
SUMMARY:Cookies & Canvas
DESCRIPTION:
URL:https://thegaragelagrange.com/event/cookies-canvas-2/
LOCATION:The Garage\, 111 W Lafayette St.\, LaGrange\, IN\, 46746\, United States
END:VEVENT
BEGIN:VEVENT
DTSTART;TZID=America/Indiana/Indianapolis:20240716T163000
DTEND;TZID=America/Indiana/Indianapolis:20240716T190000
DTSTAMP:20260420T093034
CREATED:20240514T105938Z
LAST-MODIFIED:20240514T105938Z
UID:10001294-1721147400-1721156400@thegaragelagrange.com
SUMMARY:Community Serving Community Free Dinner
DESCRIPTION:
URL:https://thegaragelagrange.com/event/community-serving-community-free-dinner-6/
LOCATION:The Garage\, 111 W Lafayette St.\, LaGrange\, IN\, 46746\, United States
END:VEVENT
BEGIN:VEVENT
DTSTART;TZID=America/Indiana/Indianapolis:20240716T073000
DTEND;TZID=America/Indiana/Indianapolis:20240716T090000
DTSTAMP:20260420T093034
CREATED:20240304T180414Z
LAST-MODIFIED:20240304T180414Z
UID:10000771-1721115000-1721120400@thegaragelagrange.com
SUMMARY:Meals of Hope Packing & Deliveries
DESCRIPTION:
URL:https://thegaragelagrange.com/event/meals-of-hope-packing-deliveries/2024-07-16/
LOCATION:The Garage\, 111 W Lafayette St.\, LaGrange\, IN\, 46746\, United States
END:VEVENT
BEGIN:VEVENT
DTSTART;TZID=America/Indiana/Indianapolis:20240715T173000
DTEND;TZID=America/Indiana/Indianapolis:20240715T190000
DTSTAMP:20260420T093034
CREATED:20240304T180248Z
LAST-MODIFIED:20240304T180248Z
UID:10000762-1721064600-1721070000@thegaragelagrange.com
SUMMARY:Meals of Hope Packing
DESCRIPTION:
URL:https://thegaragelagrange.com/event/meals-of-hope-packing-2/2024-07-15/
LOCATION:The Garage\, 111 W Lafayette St.\, LaGrange\, IN\, 46746\, United States
END:VEVENT
BEGIN:VEVENT
DTSTART;TZID=America/Indiana/Indianapolis:20240714T150000
DTEND;TZID=America/Indiana/Indianapolis:20240714T233000
DTSTAMP:20260420T093034
CREATED:20240514T105850Z
LAST-MODIFIED:20251123T184813Z
UID:10001293-1720969200-1720999800@thegaragelagrange.com
SUMMARY:Private Rental
DESCRIPTION:
URL:https://thegaragelagrange.com/event/private-event-70/
LOCATION:The Garage\, 111 W Lafayette St.\, LaGrange\, IN\, 46746\, United States
CATEGORIES:Private
END:VEVENT
BEGIN:VEVENT
DTSTART;TZID=America/Indiana/Indianapolis:20240713T080000
DTEND;TZID=America/Indiana/Indianapolis:20240713T233000
DTSTAMP:20260420T093034
CREATED:20240209T112616Z
LAST-MODIFIED:20251123T184413Z
UID:10000726-1720857600-1720913400@thegaragelagrange.com
SUMMARY:Private Rental
DESCRIPTION:
URL:https://thegaragelagrange.com/event/private-event-56/
LOCATION:The Garage\, 111 W Lafayette St.\, LaGrange\, IN\, 46746\, United States
CATEGORIES:Private
END:VEVENT
BEGIN:VEVENT
DTSTART;TZID=America/Indiana/Indianapolis:20240710T060000
DTEND;TZID=America/Indiana/Indianapolis:20240710T150000
DTSTAMP:20260420T093034
CREATED:20240416T111736Z
LAST-MODIFIED:20251123T184855Z
UID:10000843-1720591200-1720623600@thegaragelagrange.com
SUMMARY:Private Rental
DESCRIPTION:
URL:https://thegaragelagrange.com/event/private-event-64/
LOCATION:The Garage\, 111 W Lafayette St.\, LaGrange\, IN\, 46746\, United States
CATEGORIES:Private
END:VEVENT
BEGIN:VEVENT
DTSTART;TZID=America/Indiana/Indianapolis:20240709T073000
DTEND;TZID=America/Indiana/Indianapolis:20240709T090000
DTSTAMP:20260420T093034
CREATED:20240304T180414Z
LAST-MODIFIED:20240304T180414Z
UID:10000770-1720510200-1720515600@thegaragelagrange.com
SUMMARY:Meals of Hope Packing & Deliveries
DESCRIPTION:
URL:https://thegaragelagrange.com/event/meals-of-hope-packing-deliveries/2024-07-09/
LOCATION:The Garage\, 111 W Lafayette St.\, LaGrange\, IN\, 46746\, United States
END:VEVENT
BEGIN:VEVENT
DTSTART;TZID=America/Indiana/Indianapolis:20240708T173000
DTEND;TZID=America/Indiana/Indianapolis:20240708T190000
DTSTAMP:20260420T093034
CREATED:20240304T180248Z
LAST-MODIFIED:20240304T180248Z
UID:10000761-1720459800-1720465200@thegaragelagrange.com
SUMMARY:Meals of Hope Packing
DESCRIPTION:
URL:https://thegaragelagrange.com/event/meals-of-hope-packing-2/2024-07-08/
LOCATION:The Garage\, 111 W Lafayette St.\, LaGrange\, IN\, 46746\, United States
END:VEVENT
BEGIN:VEVENT
DTSTART;TZID=America/Indiana/Indianapolis:20240702T073000
DTEND;TZID=America/Indiana/Indianapolis:20240702T090000
DTSTAMP:20260420T093034
CREATED:20240304T180414Z
LAST-MODIFIED:20240304T180414Z
UID:10000769-1719905400-1719910800@thegaragelagrange.com
SUMMARY:Meals of Hope Packing & Deliveries
DESCRIPTION:
URL:https://thegaragelagrange.com/event/meals-of-hope-packing-deliveries/2024-07-02/
LOCATION:The Garage\, 111 W Lafayette St.\, LaGrange\, IN\, 46746\, United States
END:VEVENT
BEGIN:VEVENT
DTSTART;TZID=America/Indiana/Indianapolis:20240701T173000
DTEND;TZID=America/Indiana/Indianapolis:20240701T190000
DTSTAMP:20260420T093034
CREATED:20240304T180248Z
LAST-MODIFIED:20240304T180248Z
UID:10000760-1719855000-1719860400@thegaragelagrange.com
SUMMARY:Meals of Hope Packing
DESCRIPTION:
URL:https://thegaragelagrange.com/event/meals-of-hope-packing-2/2024-07-01/
LOCATION:The Garage\, 111 W Lafayette St.\, LaGrange\, IN\, 46746\, United States
END:VEVENT
BEGIN:VEVENT
DTSTART;TZID=America/Indiana/Indianapolis:20240630T060000
DTEND;TZID=America/Indiana/Indianapolis:20240630T233000
DTSTAMP:20260420T093034
CREATED:20240222T111840Z
LAST-MODIFIED:20251123T185029Z
UID:10000740-1719727200-1719790200@thegaragelagrange.com
SUMMARY:Private Rental
DESCRIPTION:
URL:https://thegaragelagrange.com/event/private-event-58/
LOCATION:The Garage\, 111 W Lafayette St.\, LaGrange\, IN\, 46746\, United States
CATEGORIES:Private
END:VEVENT
BEGIN:VEVENT
DTSTART;TZID=America/Indiana/Indianapolis:20240629T080000
DTEND;TZID=America/Indiana/Indianapolis:20240629T233000
DTSTAMP:20260420T093034
CREATED:20231027T104415Z
LAST-MODIFIED:20251123T185221Z
UID:10000646-1719648000-1719703800@thegaragelagrange.com
SUMMARY:Private Rental
DESCRIPTION:
URL:https://thegaragelagrange.com/event/private-event-27/
LOCATION:The Garage\, 111 W Lafayette St.\, LaGrange\, IN\, 46746\, United States
CATEGORIES:Private
END:VEVENT
BEGIN:VEVENT
DTSTART;TZID=America/Indiana/Indianapolis:20240625T170000
DTEND;TZID=America/Indiana/Indianapolis:20240625T190000
DTSTAMP:20260420T093034
CREATED:20240416T111557Z
LAST-MODIFIED:20240416T111557Z
UID:10000842-1719334800-1719342000@thegaragelagrange.com
SUMMARY:LaGrange Photo Guild Meeting
DESCRIPTION:
URL:https://thegaragelagrange.com/event/lagrange-photo-guild-meeting-3/
LOCATION:The Garage\, 111 W Lafayette St.\, LaGrange\, IN\, 46746\, United States
END:VEVENT
BEGIN:VEVENT
DTSTART;TZID=America/Indiana/Indianapolis:20240625T073000
DTEND;TZID=America/Indiana/Indianapolis:20240625T090000
DTSTAMP:20260420T093034
CREATED:20240304T180414Z
LAST-MODIFIED:20240304T180414Z
UID:10000768-1719300600-1719306000@thegaragelagrange.com
SUMMARY:Meals of Hope Packing & Deliveries
DESCRIPTION:
URL:https://thegaragelagrange.com/event/meals-of-hope-packing-deliveries/2024-06-25/
LOCATION:The Garage\, 111 W Lafayette St.\, LaGrange\, IN\, 46746\, United States
END:VEVENT
BEGIN:VEVENT
DTSTART;TZID=America/Indiana/Indianapolis:20240624T173000
DTEND;TZID=America/Indiana/Indianapolis:20240624T190000
DTSTAMP:20260420T093034
CREATED:20240304T180248Z
LAST-MODIFIED:20240304T180248Z
UID:10000759-1719250200-1719255600@thegaragelagrange.com
SUMMARY:Meals of Hope Packing
DESCRIPTION:
URL:https://thegaragelagrange.com/event/meals-of-hope-packing-2/2024-06-24/
LOCATION:The Garage\, 111 W Lafayette St.\, LaGrange\, IN\, 46746\, United States
END:VEVENT
BEGIN:VEVENT
DTSTART;TZID=America/Indiana/Indianapolis:20240623T080000
DTEND;TZID=America/Indiana/Indianapolis:20240623T233000
DTSTAMP:20260420T093034
CREATED:20240209T112357Z
LAST-MODIFIED:20251123T184437Z
UID:10000725-1719129600-1719185400@thegaragelagrange.com
SUMMARY:Private Rental
DESCRIPTION:
URL:https://thegaragelagrange.com/event/private-event-55/
LOCATION:The Garage\, 111 W Lafayette St.\, LaGrange\, IN\, 46746\, United States
CATEGORIES:Private
END:VEVENT
BEGIN:VEVENT
DTSTART;TZID=America/Indiana/Indianapolis:20240622T080000
DTEND;TZID=America/Indiana/Indianapolis:20240622T233000
DTSTAMP:20260420T093034
CREATED:20231027T104339Z
LAST-MODIFIED:20251123T185239Z
UID:10000645-1719043200-1719099000@thegaragelagrange.com
SUMMARY:Private Rental
DESCRIPTION:
URL:https://thegaragelagrange.com/event/private-event-26/
LOCATION:The Garage\, 111 W Lafayette St.\, LaGrange\, IN\, 46746\, United States
CATEGORIES:Private
END:VEVENT
BEGIN:VEVENT
DTSTART;TZID=America/Indiana/Indianapolis:20240621T150000
DTEND;TZID=America/Indiana/Indianapolis:20240621T233000
DTSTAMP:20260420T093034
CREATED:20240314T151339Z
LAST-MODIFIED:20251123T184939Z
UID:10000832-1718982000-1719012600@thegaragelagrange.com
SUMMARY:Private Rental
DESCRIPTION:
URL:https://thegaragelagrange.com/event/private-event-61/
LOCATION:The Garage\, 111 W Lafayette St.\, LaGrange\, IN\, 46746\, United States
CATEGORIES:Private
END:VEVENT
BEGIN:VEVENT
DTSTART;TZID=America/Indiana/Indianapolis:20240620T153000
DTEND;TZID=America/Indiana/Indianapolis:20240620T173000
DTSTAMP:20260420T093034
CREATED:20240209T112158Z
LAST-MODIFIED:20240209T112158Z
UID:10000723-1718897400-1718904600@thegaragelagrange.com
SUMMARY:Community Harvest
DESCRIPTION:
URL:https://thegaragelagrange.com/event/community-harvest-8/
LOCATION:The Garage\, 111 W Lafayette St.\, LaGrange\, IN\, 46746\, United States
END:VEVENT
BEGIN:VEVENT
DTSTART;TZID=America/Indiana/Indianapolis:20240618T073000
DTEND;TZID=America/Indiana/Indianapolis:20240618T090000
DTSTAMP:20260420T093034
CREATED:20240304T180414Z
LAST-MODIFIED:20240304T180414Z
UID:10000767-1718695800-1718701200@thegaragelagrange.com
SUMMARY:Meals of Hope Packing & Deliveries
DESCRIPTION:
URL:https://thegaragelagrange.com/event/meals-of-hope-packing-deliveries/2024-06-18/
LOCATION:The Garage\, 111 W Lafayette St.\, LaGrange\, IN\, 46746\, United States
END:VEVENT
END:VCALENDAR