BEGIN:VCALENDAR
VERSION:2.0
PRODID:-//The Garage Community Center - ECPv6.15.17.1//NONSGML v1.0//EN
CALSCALE:GREGORIAN
METHOD:PUBLISH
X-ORIGINAL-URL:https://thegaragelagrange.com
X-WR-CALDESC:Events for The Garage Community Center
REFRESH-INTERVAL;VALUE=DURATION:PT1H
X-Robots-Tag:noindex
X-PUBLISHED-TTL:PT1H
BEGIN:VTIMEZONE
TZID:America/Indiana/Indianapolis
BEGIN:DAYLIGHT
TZOFFSETFROM:-0500
TZOFFSETTO:-0400
TZNAME:EDT
DTSTART:20240310T070000
END:DAYLIGHT
BEGIN:STANDARD
TZOFFSETFROM:-0400
TZOFFSETTO:-0500
TZNAME:EST
DTSTART:20241103T060000
END:STANDARD
BEGIN:DAYLIGHT
TZOFFSETFROM:-0500
TZOFFSETTO:-0400
TZNAME:EDT
DTSTART:20250309T070000
END:DAYLIGHT
BEGIN:STANDARD
TZOFFSETFROM:-0400
TZOFFSETTO:-0500
TZNAME:EST
DTSTART:20251102T060000
END:STANDARD
BEGIN:DAYLIGHT
TZOFFSETFROM:-0500
TZOFFSETTO:-0400
TZNAME:EDT
DTSTART:20260308T070000
END:DAYLIGHT
BEGIN:STANDARD
TZOFFSETFROM:-0400
TZOFFSETTO:-0500
TZNAME:EST
DTSTART:20261101T060000
END:STANDARD
END:VTIMEZONE
BEGIN:VEVENT
DTSTART;TZID=America/Indiana/Indianapolis:20250606T080000
DTEND;TZID=America/Indiana/Indianapolis:20250606T233000
DTSTAMP:20260420T033038
CREATED:20250110T113934Z
LAST-MODIFIED:20251123T183706Z
UID:10001672-1749196800-1749252600@thegaragelagrange.com
SUMMARY:Private Rental
DESCRIPTION:
URL:https://thegaragelagrange.com/event/private-event-83/
LOCATION:The Garage\, 111 W Lafayette St.\, LaGrange\, IN\, 46746\, United States
CATEGORIES:Private
END:VEVENT
BEGIN:VEVENT
DTSTART;TZID=America/Indiana/Indianapolis:20250605T153000
DTEND;TZID=America/Indiana/Indianapolis:20250605T173000
DTSTAMP:20260420T033038
CREATED:20250110T113902Z
LAST-MODIFIED:20250110T113902Z
UID:10001671-1749137400-1749144600@thegaragelagrange.com
SUMMARY:Community Harvest
DESCRIPTION:
URL:https://thegaragelagrange.com/event/community-harvest-29/
LOCATION:The Garage\, 111 W Lafayette St.\, LaGrange\, IN\, 46746\, United States
END:VEVENT
BEGIN:VEVENT
DTSTART;TZID=America/Indiana/Indianapolis:20250603T170000
DTEND;TZID=America/Indiana/Indianapolis:20250603T190000
DTSTAMP:20260420T033038
CREATED:20250224T121528Z
LAST-MODIFIED:20250224T121528Z
UID:10001859-1748970000-1748977200@thegaragelagrange.com
SUMMARY:LaGrange County Hope Food Pack and Deliveries
DESCRIPTION:
URL:https://thegaragelagrange.com/event/lagrange-county-hope-food-pack-and-deliveries/2025-06-03/
LOCATION:The Garage\, 111 W Lafayette St.\, LaGrange\, IN\, 46746\, United States
END:VEVENT
BEGIN:VEVENT
DTSTART;TZID=America/Indiana/Indianapolis:20250602T173000
DTEND;TZID=America/Indiana/Indianapolis:20250602T183000
DTSTAMP:20260420T033038
CREATED:20250110T105703Z
LAST-MODIFIED:20250307T113143Z
UID:10001547-1748885400-1748889000@thegaragelagrange.com
SUMMARY:LCH Food Insecurity Meeting
DESCRIPTION:
URL:https://thegaragelagrange.com/event/lch-food-insecurity-meeting/2025-06-02/
LOCATION:The Garage\, 111 W Lafayette St.\, LaGrange\, IN\, 46746\, United States
END:VEVENT
BEGIN:VEVENT
DTSTART;TZID=America/Indiana/Indianapolis:20250602T170000
DTEND;TZID=America/Indiana/Indianapolis:20250602T190000
DTSTAMP:20260420T033038
CREATED:20250224T115340Z
LAST-MODIFIED:20250224T120620Z
UID:10001788-1748883600-1748890800@thegaragelagrange.com
SUMMARY:LaGrange County Hope Food Packing
DESCRIPTION:
URL:https://thegaragelagrange.com/event/lagrange-county-hope-food-packing-2/2025-06-02/
LOCATION:The Garage\, 111 W Lafayette St.\, LaGrange\, IN\, 46746\, United States
END:VEVENT
BEGIN:VEVENT
DTSTART;TZID=America/Indiana/Indianapolis:20250601T080000
DTEND;TZID=America/Indiana/Indianapolis:20250601T233000
DTSTAMP:20260420T033038
CREATED:20250204T223203Z
LAST-MODIFIED:20251123T183629Z
UID:10001710-1748764800-1748820600@thegaragelagrange.com
SUMMARY:Private Rental
DESCRIPTION:
URL:https://thegaragelagrange.com/event/private-event-126/
LOCATION:The Garage\, 111 W Lafayette St.\, LaGrange\, IN\, 46746\, United States
CATEGORIES:Private
END:VEVENT
BEGIN:VEVENT
DTSTART;TZID=America/Indiana/Indianapolis:20250531T070000
DTEND;TZID=America/Indiana/Indianapolis:20250531T233000
DTSTAMP:20260420T033038
CREATED:20241114T110325Z
LAST-MODIFIED:20251123T184729Z
UID:10001452-1748674800-1748734200@thegaragelagrange.com
SUMMARY:Private Rental
DESCRIPTION:
URL:https://thegaragelagrange.com/event/private-event-100/
LOCATION:The Garage\, 111 W Lafayette St.\, LaGrange\, IN\, 46746\, United States
CATEGORIES:Private
END:VEVENT
BEGIN:VEVENT
DTSTART;TZID=America/Indiana/Indianapolis:20250529T153000
DTEND;TZID=America/Indiana/Indianapolis:20250529T200000
DTSTAMP:20260420T033038
CREATED:20240927T161336Z
LAST-MODIFIED:20251123T190648Z
UID:10001411-1748532600-1748548800@thegaragelagrange.com
SUMMARY:Club Hope by: Reason 4 Hope
DESCRIPTION:
URL:https://thegaragelagrange.com/event/club-hope-by-reason-4-hope/2025-05-29/
LOCATION:The Garage\, 111 W Lafayette St.\, LaGrange\, IN\, 46746\, United States
END:VEVENT
BEGIN:VEVENT
DTSTART;TZID=America/Indiana/Indianapolis:20250527T180000
DTEND;TZID=America/Indiana/Indianapolis:20250527T200000
DTSTAMP:20260420T033038
CREATED:20250110T105132Z
LAST-MODIFIED:20250110T105132Z
UID:10001532-1748368800-1748376000@thegaragelagrange.com
SUMMARY:LaGrange Photo Guild Meeting
DESCRIPTION:
URL:https://thegaragelagrange.com/event/lagrange-photo-guild-meeting-8/2025-05-27/
LOCATION:The Garage\, 111 W Lafayette St.\, LaGrange\, IN\, 46746\, United States
END:VEVENT
BEGIN:VEVENT
DTSTART;TZID=America/Indiana/Indianapolis:20250525T080000
DTEND;TZID=America/Indiana/Indianapolis:20250525T233000
DTSTAMP:20260420T033038
CREATED:20250307T113734Z
LAST-MODIFIED:20251123T183621Z
UID:10001879-1748160000-1748215800@thegaragelagrange.com
SUMMARY:Private Rental
DESCRIPTION:
URL:https://thegaragelagrange.com/event/private-event-135/
LOCATION:The Garage\, 111 W Lafayette St.\, LaGrange\, IN\, 46746\, United States
CATEGORIES:Private
END:VEVENT
BEGIN:VEVENT
DTSTART;TZID=America/Indiana/Indianapolis:20250524T070000
DTEND;TZID=America/Indiana/Indianapolis:20250524T233000
DTSTAMP:20260420T033038
CREATED:20241114T110236Z
LAST-MODIFIED:20251123T184332Z
UID:10001451-1748070000-1748129400@thegaragelagrange.com
SUMMARY:Private Rental
DESCRIPTION:
URL:https://thegaragelagrange.com/event/private-event-99/
LOCATION:The Garage\, 111 W Lafayette St.\, LaGrange\, IN\, 46746\, United States
CATEGORIES:Private
END:VEVENT
BEGIN:VEVENT
DTSTART;TZID=America/Indiana/Indianapolis:20250522T153000
DTEND;TZID=America/Indiana/Indianapolis:20250522T200000
DTSTAMP:20260420T033038
CREATED:20240927T161336Z
LAST-MODIFIED:20251123T190648Z
UID:10001410-1747927800-1747944000@thegaragelagrange.com
SUMMARY:Club Hope by: Reason 4 Hope
DESCRIPTION:
URL:https://thegaragelagrange.com/event/club-hope-by-reason-4-hope/2025-05-22/
LOCATION:The Garage\, 111 W Lafayette St.\, LaGrange\, IN\, 46746\, United States
END:VEVENT
BEGIN:VEVENT
DTSTART;TZID=America/Indiana/Indianapolis:20250522T153000
DTEND;TZID=America/Indiana/Indianapolis:20250522T173000
DTSTAMP:20260420T033038
CREATED:20250110T113702Z
LAST-MODIFIED:20250110T113702Z
UID:10001670-1747927800-1747935000@thegaragelagrange.com
SUMMARY:Community Harvest
DESCRIPTION:
URL:https://thegaragelagrange.com/event/community-harvest-28/
LOCATION:The Garage\, 111 W Lafayette St.\, LaGrange\, IN\, 46746\, United States
END:VEVENT
BEGIN:VEVENT
DTSTART;TZID=America/Indiana/Indianapolis:20250521T160000
DTEND;TZID=America/Indiana/Indianapolis:20250521T180000
DTSTAMP:20260420T033038
CREATED:20250224T114849Z
LAST-MODIFIED:20250224T114849Z
UID:10001722-1747843200-1747850400@thegaragelagrange.com
SUMMARY:Community Baby Shower
DESCRIPTION:
URL:https://thegaragelagrange.com/event/community-baby-shower/
LOCATION:The Garage\, 111 W Lafayette St.\, LaGrange\, IN\, 46746\, United States
END:VEVENT
BEGIN:VEVENT
DTSTART;TZID=America/Indiana/Indianapolis:20250519T180000
DTEND;TZID=America/Indiana/Indianapolis:20250519T200000
DTSTAMP:20260420T033038
CREATED:20250110T110705Z
LAST-MODIFIED:20250110T110705Z
UID:10001636-1747677600-1747684800@thegaragelagrange.com
SUMMARY:Reason 4 Hope Board Meeting
DESCRIPTION:
URL:https://thegaragelagrange.com/event/reason-4-hope-board-meeting-9/2025-05-19/
LOCATION:The Garage\, 111 W Lafayette St.\, LaGrange\, IN\, 46746\, United States
END:VEVENT
BEGIN:VEVENT
DTSTART;TZID=America/Indiana/Indianapolis:20250518T080000
DTEND;TZID=America/Indiana/Indianapolis:20250518T233000
DTSTAMP:20260420T033038
CREATED:20250330T125843Z
LAST-MODIFIED:20251123T183551Z
UID:10001893-1747555200-1747611000@thegaragelagrange.com
SUMMARY:Private Rental
DESCRIPTION:
URL:https://thegaragelagrange.com/event/private-rental-8/
LOCATION:The Garage\, 111 W Lafayette St.\, LaGrange\, IN\, 46746\, United States
CATEGORIES:Private
END:VEVENT
BEGIN:VEVENT
DTSTART;TZID=America/Indiana/Indianapolis:20250517T080000
DTEND;TZID=America/Indiana/Indianapolis:20250517T233000
DTSTAMP:20260420T033038
CREATED:20250224T114256Z
LAST-MODIFIED:20250224T114256Z
UID:10001721-1747468800-1747524600@thegaragelagrange.com
SUMMARY:LCA Event
DESCRIPTION:
URL:https://thegaragelagrange.com/event/lca-event/
LOCATION:The Garage\, 111 W Lafayette St.\, LaGrange\, IN\, 46746\, United States
END:VEVENT
BEGIN:VEVENT
DTSTART;TZID=America/Indiana/Indianapolis:20250515T153000
DTEND;TZID=America/Indiana/Indianapolis:20250515T200000
DTSTAMP:20260420T033038
CREATED:20240927T161336Z
LAST-MODIFIED:20251123T190648Z
UID:10001409-1747323000-1747339200@thegaragelagrange.com
SUMMARY:Club Hope by: Reason 4 Hope
DESCRIPTION:
URL:https://thegaragelagrange.com/event/club-hope-by-reason-4-hope/2025-05-15/
LOCATION:The Garage\, 111 W Lafayette St.\, LaGrange\, IN\, 46746\, United States
END:VEVENT
BEGIN:VEVENT
DTSTART;TZID=America/Indiana/Indianapolis:20250512T180000
DTEND;TZID=America/Indiana/Indianapolis:20250512T210000
DTSTAMP:20260420T033038
CREATED:20250330T124924Z
LAST-MODIFIED:20250330T124924Z
UID:10001892-1747072800-1747083600@thegaragelagrange.com
SUMMARY:Campus Life See The Story Event
DESCRIPTION:
URL:https://thegaragelagrange.com/event/campus-life-see-the-story-event/
LOCATION:The Garage\, 111 W Lafayette St.\, LaGrange\, IN\, 46746\, United States
END:VEVENT
BEGIN:VEVENT
DTSTART;TZID=America/Indiana/Indianapolis:20250508T153000
DTEND;TZID=America/Indiana/Indianapolis:20250508T200000
DTSTAMP:20260420T033038
CREATED:20240927T161336Z
LAST-MODIFIED:20251123T190648Z
UID:10001408-1746718200-1746734400@thegaragelagrange.com
SUMMARY:Club Hope by: Reason 4 Hope
DESCRIPTION:
URL:https://thegaragelagrange.com/event/club-hope-by-reason-4-hope/2025-05-08/
LOCATION:The Garage\, 111 W Lafayette St.\, LaGrange\, IN\, 46746\, United States
END:VEVENT
BEGIN:VEVENT
DTSTART;TZID=America/Indiana/Indianapolis:20250508T153000
DTEND;TZID=America/Indiana/Indianapolis:20250508T173000
DTSTAMP:20260420T033038
CREATED:20250110T113618Z
LAST-MODIFIED:20250110T113618Z
UID:10001669-1746718200-1746725400@thegaragelagrange.com
SUMMARY:Community Harvest
DESCRIPTION:
URL:https://thegaragelagrange.com/event/community-harvest-27/
LOCATION:The Garage\, 111 W Lafayette St.\, LaGrange\, IN\, 46746\, United States
END:VEVENT
BEGIN:VEVENT
DTSTART;TZID=America/Indiana/Indianapolis:20250505T173000
DTEND;TZID=America/Indiana/Indianapolis:20250505T183000
DTSTAMP:20260420T033038
CREATED:20250110T105703Z
LAST-MODIFIED:20250307T113143Z
UID:10001546-1746466200-1746469800@thegaragelagrange.com
SUMMARY:LCH Food Insecurity Meeting
DESCRIPTION:
URL:https://thegaragelagrange.com/event/lch-food-insecurity-meeting/2025-05-05/
LOCATION:The Garage\, 111 W Lafayette St.\, LaGrange\, IN\, 46746\, United States
END:VEVENT
BEGIN:VEVENT
DTSTART;TZID=America/Indiana/Indianapolis:20250504T073000
DTEND;TZID=America/Indiana/Indianapolis:20250504T120000
DTSTAMP:20260420T033038
CREATED:20250307T113524Z
LAST-MODIFIED:20251123T183622Z
UID:10001877-1746343800-1746360000@thegaragelagrange.com
SUMMARY:Private Rental
DESCRIPTION:
URL:https://thegaragelagrange.com/event/private-event-133/
LOCATION:The Garage\, 111 W Lafayette St.\, LaGrange\, IN\, 46746\, United States
CATEGORIES:Private
END:VEVENT
BEGIN:VEVENT
DTSTART;TZID=America/Indiana/Indianapolis:20250503T080000
DTEND;TZID=America/Indiana/Indianapolis:20250503T233000
DTSTAMP:20260420T033038
CREATED:20250224T114005Z
LAST-MODIFIED:20251123T183627Z
UID:10001720-1746259200-1746315000@thegaragelagrange.com
SUMMARY:Private Rental
DESCRIPTION:
URL:https://thegaragelagrange.com/event/private-event-127/
LOCATION:The Garage\, 111 W Lafayette St.\, LaGrange\, IN\, 46746\, United States
CATEGORIES:Private
END:VEVENT
BEGIN:VEVENT
DTSTART;TZID=America/Indiana/Indianapolis:20250501T153000
DTEND;TZID=America/Indiana/Indianapolis:20250501T200000
DTSTAMP:20260420T033038
CREATED:20240927T161336Z
LAST-MODIFIED:20251123T190648Z
UID:10001407-1746113400-1746129600@thegaragelagrange.com
SUMMARY:Club Hope by: Reason 4 Hope
DESCRIPTION:
URL:https://thegaragelagrange.com/event/club-hope-by-reason-4-hope/2025-05-01/
LOCATION:The Garage\, 111 W Lafayette St.\, LaGrange\, IN\, 46746\, United States
END:VEVENT
BEGIN:VEVENT
DTSTART;TZID=America/Indiana/Indianapolis:20250428T180000
DTEND;TZID=America/Indiana/Indianapolis:20250428T200000
DTSTAMP:20260420T033038
CREATED:20250330T124642Z
LAST-MODIFIED:20250330T124642Z
UID:10001891-1745863200-1745870400@thegaragelagrange.com
SUMMARY:LaGrange Farmer's Market Meeting
DESCRIPTION:
URL:https://thegaragelagrange.com/event/lagrange-farmers-market-meeting/
LOCATION:The Garage\, 111 W Lafayette St.\, LaGrange\, IN\, 46746\, United States
END:VEVENT
BEGIN:VEVENT
DTSTART;TZID=America/Indiana/Indianapolis:20250427T080000
DTEND;TZID=America/Indiana/Indianapolis:20250427T233000
DTSTAMP:20260420T033038
CREATED:20250224T113915Z
LAST-MODIFIED:20251123T183627Z
UID:10001719-1745740800-1745796600@thegaragelagrange.com
SUMMARY:Private Rental
DESCRIPTION:
URL:https://thegaragelagrange.com/event/private-event-107/
LOCATION:The Garage\, 111 W Lafayette St.\, LaGrange\, IN\, 46746\, United States
CATEGORIES:Private
END:VEVENT
BEGIN:VEVENT
DTSTART;TZID=America/Indiana/Indianapolis:20250426T080000
DTEND;TZID=America/Indiana/Indianapolis:20250426T233000
DTSTAMP:20260420T033038
CREATED:20250110T112654Z
LAST-MODIFIED:20251123T184148Z
UID:10001668-1745654400-1745710200@thegaragelagrange.com
SUMMARY:Private Rental
DESCRIPTION:
URL:https://thegaragelagrange.com/event/private-event-113/
LOCATION:The Garage\, 111 W Lafayette St.\, LaGrange\, IN\, 46746\, United States
CATEGORIES:Private
END:VEVENT
BEGIN:VEVENT
DTSTART;TZID=America/Indiana/Indianapolis:20250424T153000
DTEND;TZID=America/Indiana/Indianapolis:20250424T200000
DTSTAMP:20260420T033038
CREATED:20240927T161336Z
LAST-MODIFIED:20251123T190648Z
UID:10001406-1745508600-1745524800@thegaragelagrange.com
SUMMARY:Club Hope by: Reason 4 Hope
DESCRIPTION:
URL:https://thegaragelagrange.com/event/club-hope-by-reason-4-hope/2025-04-24/
LOCATION:The Garage\, 111 W Lafayette St.\, LaGrange\, IN\, 46746\, United States
END:VEVENT
BEGIN:VEVENT
DTSTART;TZID=America/Indiana/Indianapolis:20250424T153000
DTEND;TZID=America/Indiana/Indianapolis:20250424T173000
DTSTAMP:20260420T033038
CREATED:20250110T112624Z
LAST-MODIFIED:20250110T112624Z
UID:10001667-1745508600-1745515800@thegaragelagrange.com
SUMMARY:Community Harvest
DESCRIPTION:
URL:https://thegaragelagrange.com/event/community-harvest-26/
LOCATION:The Garage\, 111 W Lafayette St.\, LaGrange\, IN\, 46746\, United States
END:VEVENT
END:VCALENDAR