BEGIN:VCALENDAR
VERSION:2.0
PRODID:-//The Garage Community Center - ECPv6.15.17.1//NONSGML v1.0//EN
CALSCALE:GREGORIAN
METHOD:PUBLISH
X-ORIGINAL-URL:https://thegaragelagrange.com
X-WR-CALDESC:Events for The Garage Community Center
REFRESH-INTERVAL;VALUE=DURATION:PT1H
X-Robots-Tag:noindex
X-PUBLISHED-TTL:PT1H
BEGIN:VTIMEZONE
TZID:America/Indiana/Indianapolis
BEGIN:DAYLIGHT
TZOFFSETFROM:-0500
TZOFFSETTO:-0400
TZNAME:EDT
DTSTART:20270314T070000
END:DAYLIGHT
BEGIN:STANDARD
TZOFFSETFROM:-0400
TZOFFSETTO:-0500
TZNAME:EST
DTSTART:20271107T060000
END:STANDARD
BEGIN:DAYLIGHT
TZOFFSETFROM:-0500
TZOFFSETTO:-0400
TZNAME:EDT
DTSTART:20280312T070000
END:DAYLIGHT
BEGIN:STANDARD
TZOFFSETFROM:-0400
TZOFFSETTO:-0500
TZNAME:EST
DTSTART:20281105T060000
END:STANDARD
BEGIN:DAYLIGHT
TZOFFSETFROM:-0500
TZOFFSETTO:-0400
TZNAME:EDT
DTSTART:20290311T070000
END:DAYLIGHT
BEGIN:STANDARD
TZOFFSETFROM:-0400
TZOFFSETTO:-0500
TZNAME:EST
DTSTART:20291104T060000
END:STANDARD
BEGIN:DAYLIGHT
TZOFFSETFROM:-0500
TZOFFSETTO:-0400
TZNAME:EDT
DTSTART:20300310T070000
END:DAYLIGHT
BEGIN:STANDARD
TZOFFSETFROM:-0400
TZOFFSETTO:-0500
TZNAME:EST
DTSTART:20301103T060000
END:STANDARD
END:VTIMEZONE
BEGIN:VEVENT
DTSTART;TZID=America/Indiana/Indianapolis:20280320T180000
DTEND;TZID=America/Indiana/Indianapolis:20280320T200000
DTSTAMP:20260419T195434
CREATED:20251024T104424Z
LAST-MODIFIED:20251024T104424Z
UID:10002161-1837188000-1837195200@thegaragelagrange.com
SUMMARY:Reason 4 Hope Board Meeting
DESCRIPTION:
URL:https://thegaragelagrange.com/event/reason-4-hope-board-meeting-11/2028-03-20/
LOCATION:The Garage\, 111 W Lafayette St.\, LaGrange\, IN\, 46746\, United States
END:VEVENT
BEGIN:VEVENT
DTSTART;TZID=America/Indiana/Indianapolis:20280412T120000
DTEND;TZID=America/Indiana/Indianapolis:20280412T130000
DTSTAMP:20260419T195434
CREATED:20251104T030858Z
LAST-MODIFIED:20251104T030858Z
UID:10002233-1839153600-1839157200@thegaragelagrange.com
SUMMARY:The Garage Committee Meeting
DESCRIPTION:
URL:https://thegaragelagrange.com/event/the-garage-committee-meeting-9/2028-04-12/
LOCATION:The Garage\, 111 W Lafayette St.\, LaGrange\, IN\, 46746\, United States
END:VEVENT
BEGIN:VEVENT
DTSTART;TZID=America/Indiana/Indianapolis:20280417T180000
DTEND;TZID=America/Indiana/Indianapolis:20280417T200000
DTSTAMP:20260419T195434
CREATED:20251024T104424Z
LAST-MODIFIED:20251024T104424Z
UID:10002162-1839607200-1839614400@thegaragelagrange.com
SUMMARY:Reason 4 Hope Board Meeting
DESCRIPTION:
URL:https://thegaragelagrange.com/event/reason-4-hope-board-meeting-11/2028-04-17/
LOCATION:The Garage\, 111 W Lafayette St.\, LaGrange\, IN\, 46746\, United States
END:VEVENT
BEGIN:VEVENT
DTSTART;TZID=America/Indiana/Indianapolis:20280510T120000
DTEND;TZID=America/Indiana/Indianapolis:20280510T130000
DTSTAMP:20260419T195434
CREATED:20251104T030858Z
LAST-MODIFIED:20251104T030858Z
UID:10002234-1841572800-1841576400@thegaragelagrange.com
SUMMARY:The Garage Committee Meeting
DESCRIPTION:
URL:https://thegaragelagrange.com/event/the-garage-committee-meeting-9/2028-05-10/
LOCATION:The Garage\, 111 W Lafayette St.\, LaGrange\, IN\, 46746\, United States
END:VEVENT
BEGIN:VEVENT
DTSTART;TZID=America/Indiana/Indianapolis:20280515T180000
DTEND;TZID=America/Indiana/Indianapolis:20280515T200000
DTSTAMP:20260419T195434
CREATED:20251024T104424Z
LAST-MODIFIED:20251024T104424Z
UID:10002163-1842026400-1842033600@thegaragelagrange.com
SUMMARY:Reason 4 Hope Board Meeting
DESCRIPTION:
URL:https://thegaragelagrange.com/event/reason-4-hope-board-meeting-11/2028-05-15/
LOCATION:The Garage\, 111 W Lafayette St.\, LaGrange\, IN\, 46746\, United States
END:VEVENT
BEGIN:VEVENT
DTSTART;TZID=America/Indiana/Indianapolis:20280614T120000
DTEND;TZID=America/Indiana/Indianapolis:20280614T130000
DTSTAMP:20260419T195434
CREATED:20251104T030858Z
LAST-MODIFIED:20251104T030858Z
UID:10002235-1844596800-1844600400@thegaragelagrange.com
SUMMARY:The Garage Committee Meeting
DESCRIPTION:
URL:https://thegaragelagrange.com/event/the-garage-committee-meeting-9/2028-06-14/
LOCATION:The Garage\, 111 W Lafayette St.\, LaGrange\, IN\, 46746\, United States
END:VEVENT
BEGIN:VEVENT
DTSTART;TZID=America/Indiana/Indianapolis:20280619T180000
DTEND;TZID=America/Indiana/Indianapolis:20280619T200000
DTSTAMP:20260419T195434
CREATED:20251024T104424Z
LAST-MODIFIED:20251024T104424Z
UID:10002164-1845050400-1845057600@thegaragelagrange.com
SUMMARY:Reason 4 Hope Board Meeting
DESCRIPTION:
URL:https://thegaragelagrange.com/event/reason-4-hope-board-meeting-11/2028-06-19/
LOCATION:The Garage\, 111 W Lafayette St.\, LaGrange\, IN\, 46746\, United States
END:VEVENT
BEGIN:VEVENT
DTSTART;TZID=America/Indiana/Indianapolis:20280712T120000
DTEND;TZID=America/Indiana/Indianapolis:20280712T130000
DTSTAMP:20260419T195434
CREATED:20251104T030858Z
LAST-MODIFIED:20251104T030858Z
UID:10002236-1847016000-1847019600@thegaragelagrange.com
SUMMARY:The Garage Committee Meeting
DESCRIPTION:
URL:https://thegaragelagrange.com/event/the-garage-committee-meeting-9/2028-07-12/
LOCATION:The Garage\, 111 W Lafayette St.\, LaGrange\, IN\, 46746\, United States
END:VEVENT
BEGIN:VEVENT
DTSTART;TZID=America/Indiana/Indianapolis:20280717T180000
DTEND;TZID=America/Indiana/Indianapolis:20280717T200000
DTSTAMP:20260419T195434
CREATED:20251024T104424Z
LAST-MODIFIED:20251024T104424Z
UID:10002165-1847469600-1847476800@thegaragelagrange.com
SUMMARY:Reason 4 Hope Board Meeting
DESCRIPTION:
URL:https://thegaragelagrange.com/event/reason-4-hope-board-meeting-11/2028-07-17/
LOCATION:The Garage\, 111 W Lafayette St.\, LaGrange\, IN\, 46746\, United States
END:VEVENT
BEGIN:VEVENT
DTSTART;TZID=America/Indiana/Indianapolis:20280809T120000
DTEND;TZID=America/Indiana/Indianapolis:20280809T130000
DTSTAMP:20260419T195434
CREATED:20251104T030858Z
LAST-MODIFIED:20251104T030858Z
UID:10002237-1849435200-1849438800@thegaragelagrange.com
SUMMARY:The Garage Committee Meeting
DESCRIPTION:
URL:https://thegaragelagrange.com/event/the-garage-committee-meeting-9/2028-08-09/
LOCATION:The Garage\, 111 W Lafayette St.\, LaGrange\, IN\, 46746\, United States
END:VEVENT
BEGIN:VEVENT
DTSTART;TZID=America/Indiana/Indianapolis:20280821T180000
DTEND;TZID=America/Indiana/Indianapolis:20280821T200000
DTSTAMP:20260419T195434
CREATED:20251024T104424Z
LAST-MODIFIED:20251024T104424Z
UID:10002166-1850493600-1850500800@thegaragelagrange.com
SUMMARY:Reason 4 Hope Board Meeting
DESCRIPTION:
URL:https://thegaragelagrange.com/event/reason-4-hope-board-meeting-11/2028-08-21/
LOCATION:The Garage\, 111 W Lafayette St.\, LaGrange\, IN\, 46746\, United States
END:VEVENT
BEGIN:VEVENT
DTSTART;TZID=America/Indiana/Indianapolis:20280913T120000
DTEND;TZID=America/Indiana/Indianapolis:20280913T130000
DTSTAMP:20260419T195434
CREATED:20251104T030858Z
LAST-MODIFIED:20251104T030858Z
UID:10002238-1852459200-1852462800@thegaragelagrange.com
SUMMARY:The Garage Committee Meeting
DESCRIPTION:
URL:https://thegaragelagrange.com/event/the-garage-committee-meeting-9/2028-09-13/
LOCATION:The Garage\, 111 W Lafayette St.\, LaGrange\, IN\, 46746\, United States
END:VEVENT
BEGIN:VEVENT
DTSTART;TZID=America/Indiana/Indianapolis:20280918T180000
DTEND;TZID=America/Indiana/Indianapolis:20280918T200000
DTSTAMP:20260419T195434
CREATED:20251024T104424Z
LAST-MODIFIED:20251024T104424Z
UID:10002167-1852912800-1852920000@thegaragelagrange.com
SUMMARY:Reason 4 Hope Board Meeting
DESCRIPTION:
URL:https://thegaragelagrange.com/event/reason-4-hope-board-meeting-11/2028-09-18/
LOCATION:The Garage\, 111 W Lafayette St.\, LaGrange\, IN\, 46746\, United States
END:VEVENT
BEGIN:VEVENT
DTSTART;TZID=America/Indiana/Indianapolis:20281011T120000
DTEND;TZID=America/Indiana/Indianapolis:20281011T130000
DTSTAMP:20260419T195434
CREATED:20251104T030858Z
LAST-MODIFIED:20251104T030858Z
UID:10002239-1854878400-1854882000@thegaragelagrange.com
SUMMARY:The Garage Committee Meeting
DESCRIPTION:
URL:https://thegaragelagrange.com/event/the-garage-committee-meeting-9/2028-10-11/
LOCATION:The Garage\, 111 W Lafayette St.\, LaGrange\, IN\, 46746\, United States
END:VEVENT
BEGIN:VEVENT
DTSTART;TZID=America/Indiana/Indianapolis:20281016T180000
DTEND;TZID=America/Indiana/Indianapolis:20281016T200000
DTSTAMP:20260419T195434
CREATED:20251024T104424Z
LAST-MODIFIED:20251024T104424Z
UID:10002168-1855332000-1855339200@thegaragelagrange.com
SUMMARY:Reason 4 Hope Board Meeting
DESCRIPTION:
URL:https://thegaragelagrange.com/event/reason-4-hope-board-meeting-11/2028-10-16/
LOCATION:The Garage\, 111 W Lafayette St.\, LaGrange\, IN\, 46746\, United States
END:VEVENT
BEGIN:VEVENT
DTSTART;TZID=America/Indiana/Indianapolis:20281108T120000
DTEND;TZID=America/Indiana/Indianapolis:20281108T130000
DTSTAMP:20260419T195434
CREATED:20251104T030858Z
LAST-MODIFIED:20251104T030858Z
UID:10002240-1857297600-1857301200@thegaragelagrange.com
SUMMARY:The Garage Committee Meeting
DESCRIPTION:
URL:https://thegaragelagrange.com/event/the-garage-committee-meeting-9/2028-11-08/
LOCATION:The Garage\, 111 W Lafayette St.\, LaGrange\, IN\, 46746\, United States
END:VEVENT
BEGIN:VEVENT
DTSTART;TZID=America/Indiana/Indianapolis:20281120T180000
DTEND;TZID=America/Indiana/Indianapolis:20281120T200000
DTSTAMP:20260419T195434
CREATED:20251024T104424Z
LAST-MODIFIED:20251024T104424Z
UID:10002169-1858356000-1858363200@thegaragelagrange.com
SUMMARY:Reason 4 Hope Board Meeting
DESCRIPTION:
URL:https://thegaragelagrange.com/event/reason-4-hope-board-meeting-11/2028-11-20/
LOCATION:The Garage\, 111 W Lafayette St.\, LaGrange\, IN\, 46746\, United States
END:VEVENT
BEGIN:VEVENT
DTSTART;TZID=America/Indiana/Indianapolis:20281213T120000
DTEND;TZID=America/Indiana/Indianapolis:20281213T130000
DTSTAMP:20260419T195434
CREATED:20251104T030858Z
LAST-MODIFIED:20251104T030858Z
UID:10002241-1860321600-1860325200@thegaragelagrange.com
SUMMARY:The Garage Committee Meeting
DESCRIPTION:
URL:https://thegaragelagrange.com/event/the-garage-committee-meeting-9/2028-12-13/
LOCATION:The Garage\, 111 W Lafayette St.\, LaGrange\, IN\, 46746\, United States
END:VEVENT
BEGIN:VEVENT
DTSTART;TZID=America/Indiana/Indianapolis:20281218T180000
DTEND;TZID=America/Indiana/Indianapolis:20281218T200000
DTSTAMP:20260419T195434
CREATED:20251024T104424Z
LAST-MODIFIED:20251024T104424Z
UID:10002170-1860775200-1860782400@thegaragelagrange.com
SUMMARY:Reason 4 Hope Board Meeting
DESCRIPTION:
URL:https://thegaragelagrange.com/event/reason-4-hope-board-meeting-11/2028-12-18/
LOCATION:The Garage\, 111 W Lafayette St.\, LaGrange\, IN\, 46746\, United States
END:VEVENT
BEGIN:VEVENT
DTSTART;TZID=America/Indiana/Indianapolis:20290110T120000
DTEND;TZID=America/Indiana/Indianapolis:20290110T130000
DTSTAMP:20260419T195434
CREATED:20251104T030858Z
LAST-MODIFIED:20251104T030858Z
UID:10002242-1862740800-1862744400@thegaragelagrange.com
SUMMARY:The Garage Committee Meeting
DESCRIPTION:
URL:https://thegaragelagrange.com/event/the-garage-committee-meeting-9/2029-01-10/
LOCATION:The Garage\, 111 W Lafayette St.\, LaGrange\, IN\, 46746\, United States
END:VEVENT
BEGIN:VEVENT
DTSTART;TZID=America/Indiana/Indianapolis:20290115T180000
DTEND;TZID=America/Indiana/Indianapolis:20290115T200000
DTSTAMP:20260419T195434
CREATED:20251024T104424Z
LAST-MODIFIED:20251024T104424Z
UID:10002171-1863194400-1863201600@thegaragelagrange.com
SUMMARY:Reason 4 Hope Board Meeting
DESCRIPTION:
URL:https://thegaragelagrange.com/event/reason-4-hope-board-meeting-11/2029-01-15/
LOCATION:The Garage\, 111 W Lafayette St.\, LaGrange\, IN\, 46746\, United States
END:VEVENT
BEGIN:VEVENT
DTSTART;TZID=America/Indiana/Indianapolis:20290214T120000
DTEND;TZID=America/Indiana/Indianapolis:20290214T130000
DTSTAMP:20260419T195434
CREATED:20251104T030858Z
LAST-MODIFIED:20251104T030858Z
UID:10002243-1865764800-1865768400@thegaragelagrange.com
SUMMARY:The Garage Committee Meeting
DESCRIPTION:
URL:https://thegaragelagrange.com/event/the-garage-committee-meeting-9/2029-02-14/
LOCATION:The Garage\, 111 W Lafayette St.\, LaGrange\, IN\, 46746\, United States
END:VEVENT
BEGIN:VEVENT
DTSTART;TZID=America/Indiana/Indianapolis:20290219T180000
DTEND;TZID=America/Indiana/Indianapolis:20290219T200000
DTSTAMP:20260419T195434
CREATED:20251024T104424Z
LAST-MODIFIED:20251024T104424Z
UID:10002172-1866218400-1866225600@thegaragelagrange.com
SUMMARY:Reason 4 Hope Board Meeting
DESCRIPTION:
URL:https://thegaragelagrange.com/event/reason-4-hope-board-meeting-11/2029-02-19/
LOCATION:The Garage\, 111 W Lafayette St.\, LaGrange\, IN\, 46746\, United States
END:VEVENT
BEGIN:VEVENT
DTSTART;TZID=America/Indiana/Indianapolis:20290314T120000
DTEND;TZID=America/Indiana/Indianapolis:20290314T130000
DTSTAMP:20260419T195434
CREATED:20251104T030858Z
LAST-MODIFIED:20251104T030858Z
UID:10002244-1868184000-1868187600@thegaragelagrange.com
SUMMARY:The Garage Committee Meeting
DESCRIPTION:
URL:https://thegaragelagrange.com/event/the-garage-committee-meeting-9/2029-03-14/
LOCATION:The Garage\, 111 W Lafayette St.\, LaGrange\, IN\, 46746\, United States
END:VEVENT
BEGIN:VEVENT
DTSTART;TZID=America/Indiana/Indianapolis:20290319T180000
DTEND;TZID=America/Indiana/Indianapolis:20290319T200000
DTSTAMP:20260419T195434
CREATED:20251024T104424Z
LAST-MODIFIED:20251024T104424Z
UID:10002173-1868637600-1868644800@thegaragelagrange.com
SUMMARY:Reason 4 Hope Board Meeting
DESCRIPTION:
URL:https://thegaragelagrange.com/event/reason-4-hope-board-meeting-11/2029-03-19/
LOCATION:The Garage\, 111 W Lafayette St.\, LaGrange\, IN\, 46746\, United States
END:VEVENT
BEGIN:VEVENT
DTSTART;TZID=America/Indiana/Indianapolis:20290411T120000
DTEND;TZID=America/Indiana/Indianapolis:20290411T130000
DTSTAMP:20260419T195434
CREATED:20251104T030858Z
LAST-MODIFIED:20251104T030858Z
UID:10002245-1870603200-1870606800@thegaragelagrange.com
SUMMARY:The Garage Committee Meeting
DESCRIPTION:
URL:https://thegaragelagrange.com/event/the-garage-committee-meeting-9/2029-04-11/
LOCATION:The Garage\, 111 W Lafayette St.\, LaGrange\, IN\, 46746\, United States
END:VEVENT
BEGIN:VEVENT
DTSTART;TZID=America/Indiana/Indianapolis:20290416T180000
DTEND;TZID=America/Indiana/Indianapolis:20290416T200000
DTSTAMP:20260419T195434
CREATED:20251024T104424Z
LAST-MODIFIED:20251024T104424Z
UID:10002174-1871056800-1871064000@thegaragelagrange.com
SUMMARY:Reason 4 Hope Board Meeting
DESCRIPTION:
URL:https://thegaragelagrange.com/event/reason-4-hope-board-meeting-11/2029-04-16/
LOCATION:The Garage\, 111 W Lafayette St.\, LaGrange\, IN\, 46746\, United States
END:VEVENT
BEGIN:VEVENT
DTSTART;TZID=America/Indiana/Indianapolis:20290509T120000
DTEND;TZID=America/Indiana/Indianapolis:20290509T130000
DTSTAMP:20260419T195434
CREATED:20251104T030858Z
LAST-MODIFIED:20251104T030858Z
UID:10002246-1873022400-1873026000@thegaragelagrange.com
SUMMARY:The Garage Committee Meeting
DESCRIPTION:
URL:https://thegaragelagrange.com/event/the-garage-committee-meeting-9/2029-05-09/
LOCATION:The Garage\, 111 W Lafayette St.\, LaGrange\, IN\, 46746\, United States
END:VEVENT
BEGIN:VEVENT
DTSTART;TZID=America/Indiana/Indianapolis:20290521T180000
DTEND;TZID=America/Indiana/Indianapolis:20290521T200000
DTSTAMP:20260419T195434
CREATED:20251024T104424Z
LAST-MODIFIED:20251024T104424Z
UID:10002175-1874080800-1874088000@thegaragelagrange.com
SUMMARY:Reason 4 Hope Board Meeting
DESCRIPTION:
URL:https://thegaragelagrange.com/event/reason-4-hope-board-meeting-11/2029-05-21/
LOCATION:The Garage\, 111 W Lafayette St.\, LaGrange\, IN\, 46746\, United States
END:VEVENT
BEGIN:VEVENT
DTSTART;TZID=America/Indiana/Indianapolis:20290613T120000
DTEND;TZID=America/Indiana/Indianapolis:20290613T130000
DTSTAMP:20260419T195434
CREATED:20251104T030858Z
LAST-MODIFIED:20251104T030858Z
UID:10002247-1876046400-1876050000@thegaragelagrange.com
SUMMARY:The Garage Committee Meeting
DESCRIPTION:
URL:https://thegaragelagrange.com/event/the-garage-committee-meeting-9/2029-06-13/
LOCATION:The Garage\, 111 W Lafayette St.\, LaGrange\, IN\, 46746\, United States
END:VEVENT
END:VCALENDAR