BEGIN:VCALENDAR
VERSION:2.0
PRODID:-//The Garage Community Center - ECPv6.15.17.1//NONSGML v1.0//EN
CALSCALE:GREGORIAN
METHOD:PUBLISH
X-WR-CALNAME:The Garage Community Center
X-ORIGINAL-URL:https://thegaragelagrange.com
X-WR-CALDESC:Events for The Garage Community Center
REFRESH-INTERVAL;VALUE=DURATION:PT1H
X-Robots-Tag:noindex
X-PUBLISHED-TTL:PT1H
BEGIN:VTIMEZONE
TZID:America/Indiana/Indianapolis
BEGIN:DAYLIGHT
TZOFFSETFROM:-0500
TZOFFSETTO:-0400
TZNAME:EDT
DTSTART:20250309T070000
END:DAYLIGHT
BEGIN:STANDARD
TZOFFSETFROM:-0400
TZOFFSETTO:-0500
TZNAME:EST
DTSTART:20251102T060000
END:STANDARD
BEGIN:DAYLIGHT
TZOFFSETFROM:-0500
TZOFFSETTO:-0400
TZNAME:EDT
DTSTART:20260308T070000
END:DAYLIGHT
BEGIN:STANDARD
TZOFFSETFROM:-0400
TZOFFSETTO:-0500
TZNAME:EST
DTSTART:20261101T060000
END:STANDARD
BEGIN:DAYLIGHT
TZOFFSETFROM:-0500
TZOFFSETTO:-0400
TZNAME:EDT
DTSTART:20270314T070000
END:DAYLIGHT
BEGIN:STANDARD
TZOFFSETFROM:-0400
TZOFFSETTO:-0500
TZNAME:EST
DTSTART:20271107T060000
END:STANDARD
END:VTIMEZONE
BEGIN:VEVENT
DTSTART;TZID=America/Indiana/Indianapolis:20260418T150000
DTEND;TZID=America/Indiana/Indianapolis:20260418T235900
DTSTAMP:20260420T031930
CREATED:20260326T151610Z
LAST-MODIFIED:20260326T151626Z
UID:10002538-1776524400-1776556740@thegaragelagrange.com
SUMMARY:Private Rental
DESCRIPTION:
URL:https://thegaragelagrange.com/event/private-rental-48/
LOCATION:The Garage\, 111 W Lafayette St.\, LaGrange\, IN\, 46746\, United States
CATEGORIES:Private
ATTACH;FMTTYPE=image/jpeg:https://thegaragelagrange.com/wp-content/uploads/2025/11/Private-Rubber-Stamp-17-01-scaled.jpg
END:VEVENT
BEGIN:VEVENT
DTSTART;TZID=America/Indiana/Indianapolis:20260418T100000
DTEND;TZID=America/Indiana/Indianapolis:20260418T140000
DTSTAMP:20260420T031930
CREATED:20260207T053300Z
LAST-MODIFIED:20260207T053557Z
UID:10002515-1776506400-1776520800@thegaragelagrange.com
SUMMARY:Painting & Pastries
DESCRIPTION:
URL:https://thegaragelagrange.com/event/painting-pastries/
LOCATION:The Garage\, 111 W Lafayette St.\, LaGrange\, IN\, 46746\, United States
CATEGORIES:Community
END:VEVENT
BEGIN:VEVENT
DTSTART;TZID=America/Indiana/Indianapolis:20260416T153000
DTEND;TZID=America/Indiana/Indianapolis:20260416T173000
DTSTAMP:20260420T031930
CREATED:20251121T043142Z
LAST-MODIFIED:20251123T180253Z
UID:10002390-1776353400-1776360600@thegaragelagrange.com
SUMMARY:Community Harvest
DESCRIPTION:
URL:https://thegaragelagrange.com/event/community-harvest-36/2026-04-16/
LOCATION:The Garage\, 111 W Lafayette St.\, LaGrange\, IN\, 46746\, United States
CATEGORIES:Community
ATTACH;FMTTYPE=image/png:https://thegaragelagrange.com/wp-content/uploads/2025/11/CHFB-LogoMain.png
END:VEVENT
BEGIN:VEVENT
DTSTART;TZID=America/Indiana/Indianapolis:20260414T113000
DTEND;TZID=America/Indiana/Indianapolis:20260414T130000
DTSTAMP:20260420T031930
CREATED:20251121T044339Z
LAST-MODIFIED:20251121T044339Z
UID:10002397-1776166200-1776171600@thegaragelagrange.com
SUMMARY:LCCF LaGrange Partners Interagency Meeting
DESCRIPTION:
URL:https://thegaragelagrange.com/event/lccf-lagrange-partners-interagency-meeting-6/2026-04-14/
LOCATION:The Garage\, 111 W Lafayette St.\, LaGrange\, IN\, 46746\, United States
END:VEVENT
BEGIN:VEVENT
DTSTART;TZID=America/Indiana/Indianapolis:20260413T170000
DTEND;TZID=America/Indiana/Indianapolis:20260413T200000
DTSTAMP:20260420T031930
CREATED:20251022T212008Z
LAST-MODIFIED:20251024T104938Z
UID:10002018-1776099600-1776110400@thegaragelagrange.com
SUMMARY:Campus Life
DESCRIPTION:
URL:https://thegaragelagrange.com/event/campus-life/2026-04-13/
LOCATION:The Garage\, 111 W Lafayette St.\, LaGrange\, IN\, 46746\, United States
END:VEVENT
BEGIN:VEVENT
DTSTART;TZID=America/Indiana/Indianapolis:20260411T080000
DTEND;TZID=America/Indiana/Indianapolis:20260411T233000
DTSTAMP:20260420T031930
CREATED:20260326T151219Z
LAST-MODIFIED:20260326T151219Z
UID:10002536-1775894400-1775950200@thegaragelagrange.com
SUMMARY:Private Rental
DESCRIPTION:
URL:https://thegaragelagrange.com/event/private-rental-47/
LOCATION:The Garage\, 111 W Lafayette St.\, LaGrange\, IN\, 46746\, United States
CATEGORIES:Private
ATTACH;FMTTYPE=image/jpeg:https://thegaragelagrange.com/wp-content/uploads/2025/11/Private-Rubber-Stamp-17-01-scaled.jpg
END:VEVENT
BEGIN:VEVENT
DTSTART;TZID=America/Indiana/Indianapolis:20260410T170000
DTEND;TZID=America/Indiana/Indianapolis:20260410T210000
DTSTAMP:20260420T031930
CREATED:20250827T202035Z
LAST-MODIFIED:20260327T150842Z
UID:10001959-1775840400-1775854800@thegaragelagrange.com
SUMMARY:Reason 4 Hope Underclassman Prom
DESCRIPTION:UNDERCLASSMAN PROM: NEON NIGHT!\n7th–10th Grade • April 10 • The Garage \nGet ready to GLOW! Underclassman Prom is back\, and this year we’re turning The Garage into a full‑on neon party zone\, and you do not want to miss it. We’re talking bright lights\, loud music\, and a night packed with energy. \nCome exactly as you are. Dressing up is optional. Having fun is not. \n✨ Epic neon party atmosphere \n🍕 Food & drinks included \n🎁 Awesome door prizes \n🎶 Music by Classic City DJ\, friends\, and nonstop fun \n🤝 Sponsored by Reason 4 Hope \nApril 10th\, 6:00 PM – 8:30 PM The Garage \nShow up\, light up\, and get ready for a night you’ll be talking about long after it’s over. This is your night\, don’t miss it.
URL:https://thegaragelagrange.com/event/reason-4-hope-underclassman-prom-neon-night/
LOCATION:The Garage\, 111 W Lafayette St.\, LaGrange\, IN\, 46746\, United States
CATEGORIES:Community
ATTACH;FMTTYPE=image/png:https://thegaragelagrange.com/wp-content/uploads/2025/08/Screenshot-2026-03-27-104932_edited.png
END:VEVENT
BEGIN:VEVENT
DTSTART;TZID=America/Indiana/Indianapolis:20260408T120000
DTEND;TZID=America/Indiana/Indianapolis:20260408T130000
DTSTAMP:20260420T031930
CREATED:20251104T030858Z
LAST-MODIFIED:20251104T030858Z
UID:10002209-1775649600-1775653200@thegaragelagrange.com
SUMMARY:The Garage Committee Meeting
DESCRIPTION:
URL:https://thegaragelagrange.com/event/the-garage-committee-meeting-9/2026-04-08/
LOCATION:The Garage\, 111 W Lafayette St.\, LaGrange\, IN\, 46746\, United States
END:VEVENT
BEGIN:VEVENT
DTSTART;TZID=America/Indiana/Indianapolis:20260406T170000
DTEND;TZID=America/Indiana/Indianapolis:20260406T200000
DTSTAMP:20260420T031930
CREATED:20251022T212008Z
LAST-MODIFIED:20251024T104938Z
UID:10002017-1775494800-1775505600@thegaragelagrange.com
SUMMARY:Campus Life
DESCRIPTION:
URL:https://thegaragelagrange.com/event/campus-life/2026-04-06/
LOCATION:The Garage\, 111 W Lafayette St.\, LaGrange\, IN\, 46746\, United States
END:VEVENT
BEGIN:VEVENT
DTSTART;TZID=America/Indiana/Indianapolis:20260404T080000
DTEND;TZID=America/Indiana/Indianapolis:20260404T233000
DTSTAMP:20260420T031930
CREATED:20260326T151018Z
LAST-MODIFIED:20260326T151018Z
UID:10002535-1775289600-1775345400@thegaragelagrange.com
SUMMARY:Private Rental
DESCRIPTION:
URL:https://thegaragelagrange.com/event/private-rental-46/
LOCATION:The Garage\, 111 W Lafayette St.\, LaGrange\, IN\, 46746\, United States
CATEGORIES:Private
ATTACH;FMTTYPE=image/jpeg:https://thegaragelagrange.com/wp-content/uploads/2025/11/Private-Rubber-Stamp-17-01-scaled.jpg
END:VEVENT
BEGIN:VEVENT
DTSTART;TZID=America/Indiana/Indianapolis:20260330T170000
DTEND;TZID=America/Indiana/Indianapolis:20260330T200000
DTSTAMP:20260420T031930
CREATED:20251022T212008Z
LAST-MODIFIED:20251024T104938Z
UID:10002016-1774890000-1774900800@thegaragelagrange.com
SUMMARY:Campus Life
DESCRIPTION:
URL:https://thegaragelagrange.com/event/campus-life/2026-03-30/
LOCATION:The Garage\, 111 W Lafayette St.\, LaGrange\, IN\, 46746\, United States
END:VEVENT
BEGIN:VEVENT
DTSTART;TZID=America/Indiana/Indianapolis:20260330T070000
DTEND;TZID=America/Indiana/Indianapolis:20260330T100000
DTSTAMP:20260420T031930
CREATED:20260326T150916Z
LAST-MODIFIED:20260327T151020Z
UID:10002534-1774854000-1774864800@thegaragelagrange.com
SUMMARY:LaGrange County Hope Packing Event
DESCRIPTION:We’re looking for volunteers to help package food for children in the LaGrange County school area. Our food delivery program serves youth living within the three LaGrange County School Districts who are experiencing food insecurity. Through these deliveries\, we’re not only helping meet physical needs\, but we’re also building relationships with families and creating meaningful connections within our community. \nOur mission is simple: To support individuals and families in need by providing food and basic supplies while fostering community connections that encourage and uplift vulnerable households. \nTo make this possible\, we need volunteers willing to come together and help package the food that will be delivered to these families. Your time and effort directly impact children right here in our community. \nIf you’re able to lend a hand\, we’d love to have you join us. Your help truly makes a difference
URL:https://thegaragelagrange.com/event/lagrange-county-hope-packing-event-spring2026/
LOCATION:The Garage\, 111 W Lafayette St.\, LaGrange\, IN\, 46746\, United States
CATEGORIES:Community
ATTACH;FMTTYPE=image/png:https://thegaragelagrange.com/wp-content/uploads/2026/03/Packed-grocery-bag-trans-yellow.png
END:VEVENT
BEGIN:VEVENT
DTSTART;TZID=America/Indiana/Indianapolis:20260329T080000
DTEND;TZID=America/Indiana/Indianapolis:20260329T233000
DTSTAMP:20260420T031930
CREATED:20260207T051538Z
LAST-MODIFIED:20260207T051538Z
UID:10002509-1774771200-1774827000@thegaragelagrange.com
SUMMARY:Private Rental
DESCRIPTION:
URL:https://thegaragelagrange.com/event/private-rental-40/
LOCATION:The Garage\, 111 W Lafayette St.\, LaGrange\, IN\, 46746\, United States
CATEGORIES:Private
ATTACH;FMTTYPE=image/jpeg:https://thegaragelagrange.com/wp-content/uploads/2025/11/Private-Rubber-Stamp-17-01-scaled.jpg
END:VEVENT
BEGIN:VEVENT
DTSTART;TZID=America/Indiana/Indianapolis:20260323T170000
DTEND;TZID=America/Indiana/Indianapolis:20260323T200000
DTSTAMP:20260420T031930
CREATED:20251022T212008Z
LAST-MODIFIED:20251024T104938Z
UID:10002015-1774285200-1774296000@thegaragelagrange.com
SUMMARY:Campus Life
DESCRIPTION:
URL:https://thegaragelagrange.com/event/campus-life/2026-03-23/
LOCATION:The Garage\, 111 W Lafayette St.\, LaGrange\, IN\, 46746\, United States
END:VEVENT
BEGIN:VEVENT
DTSTART;TZID=America/Indiana/Indianapolis:20260322T080000
DTEND;TZID=America/Indiana/Indianapolis:20260322T233000
DTSTAMP:20260420T031930
CREATED:20260207T051519Z
LAST-MODIFIED:20260207T051519Z
UID:10002508-1774166400-1774222200@thegaragelagrange.com
SUMMARY:Private Rental
DESCRIPTION:
URL:https://thegaragelagrange.com/event/private-rental-39/
LOCATION:The Garage\, 111 W Lafayette St.\, LaGrange\, IN\, 46746\, United States
CATEGORIES:Private
ATTACH;FMTTYPE=image/jpeg:https://thegaragelagrange.com/wp-content/uploads/2025/11/Private-Rubber-Stamp-17-01-scaled.jpg
END:VEVENT
BEGIN:VEVENT
DTSTART;TZID=America/Indiana/Indianapolis:20260321T080000
DTEND;TZID=America/Indiana/Indianapolis:20260321T233000
DTSTAMP:20260420T031930
CREATED:20260207T051454Z
LAST-MODIFIED:20260207T051454Z
UID:10002507-1774080000-1774135800@thegaragelagrange.com
SUMMARY:Private Rental
DESCRIPTION:
URL:https://thegaragelagrange.com/event/private-rental-38/
LOCATION:The Garage\, 111 W Lafayette St.\, LaGrange\, IN\, 46746\, United States
CATEGORIES:Private
ATTACH;FMTTYPE=image/jpeg:https://thegaragelagrange.com/wp-content/uploads/2025/11/Private-Rubber-Stamp-17-01-scaled.jpg
END:VEVENT
BEGIN:VEVENT
DTSTART;TZID=America/Indiana/Indianapolis:20260318T173000
DTEND;TZID=America/Indiana/Indianapolis:20260318T200000
DTSTAMP:20260420T031930
CREATED:20260326T145745Z
LAST-MODIFIED:20260326T145745Z
UID:10002532-1773855000-1773864000@thegaragelagrange.com
SUMMARY:Olin Lake Conservancy Meeting
DESCRIPTION:
URL:https://thegaragelagrange.com/event/olin-lake-conservancy-meeting/
LOCATION:The Garage\, 111 W Lafayette St.\, LaGrange\, IN\, 46746\, United States
CATEGORIES:Private
END:VEVENT
BEGIN:VEVENT
DTSTART;TZID=America/Indiana/Indianapolis:20260318T080000
DTEND;TZID=America/Indiana/Indianapolis:20260318T170000
DTSTAMP:20260420T031930
CREATED:20260326T145842Z
LAST-MODIFIED:20260326T145842Z
UID:10002533-1773820800-1773853200@thegaragelagrange.com
SUMMARY:GO Foundation Event
DESCRIPTION:
URL:https://thegaragelagrange.com/event/go-foundation-event/
LOCATION:The Garage\, 111 W Lafayette St.\, LaGrange\, IN\, 46746\, United States
CATEGORIES:Private
END:VEVENT
BEGIN:VEVENT
DTSTART;TZID=America/Indiana/Indianapolis:20260317T163000
DTEND;TZID=America/Indiana/Indianapolis:20260317T190000
DTSTAMP:20260420T031930
CREATED:20260207T034451Z
LAST-MODIFIED:20260303T224657Z
UID:10002484-1773765000-1773774000@thegaragelagrange.com
SUMMARY:Community Serving Community Free Dinner
DESCRIPTION:Hungry? No time to cook? Hate eating alone? Want to socialize and visit with friends\, family\, and neighbors? Running short on grocery money? Miss our smiling faces? NO MATTER THE REASON\, THIS DINNER IS FOR YOU!!! Please join us for our next monthly free Community Serving Community dinner on Tuesday\, March 17th\, from 4:30 PM to 7:00 PM! This meal is sponsored by
URL:https://thegaragelagrange.com/event/community-serving-community-free-dinner-032026/
LOCATION:The Garage\, 111 W Lafayette St.\, LaGrange\, IN\, 46746\, United States
CATEGORIES:Community
ATTACH;FMTTYPE=image/png:https://thegaragelagrange.com/wp-content/uploads/2026/02/March-Meal.png
END:VEVENT
BEGIN:VEVENT
DTSTART;TZID=America/Indiana/Indianapolis:20260316T180000
DTEND;TZID=America/Indiana/Indianapolis:20260316T200000
DTSTAMP:20260420T031930
CREATED:20251024T103436Z
LAST-MODIFIED:20251024T103856Z
UID:10002083-1773684000-1773691200@thegaragelagrange.com
SUMMARY:Reason 4 Hope Board Meeting
DESCRIPTION:
URL:https://thegaragelagrange.com/event/reason-4-hope-board-meeting-10/
LOCATION:The Garage\, 111 W Lafayette St.\, LaGrange\, IN\, 46746\, United States
END:VEVENT
BEGIN:VEVENT
DTSTART;TZID=America/Indiana/Indianapolis:20260315T080000
DTEND;TZID=America/Indiana/Indianapolis:20260315T233000
DTSTAMP:20260420T031930
CREATED:20260207T051344Z
LAST-MODIFIED:20260207T051344Z
UID:10002506-1773561600-1773617400@thegaragelagrange.com
SUMMARY:Private Rental
DESCRIPTION:
URL:https://thegaragelagrange.com/event/private-rental-37/
LOCATION:The Garage\, 111 W Lafayette St.\, LaGrange\, IN\, 46746\, United States
CATEGORIES:Private
ATTACH;FMTTYPE=image/jpeg:https://thegaragelagrange.com/wp-content/uploads/2025/11/Private-Rubber-Stamp-17-01-scaled.jpg
END:VEVENT
BEGIN:VEVENT
DTSTART;TZID=America/Indiana/Indianapolis:20260314T100000
DTEND;TZID=America/Indiana/Indianapolis:20260314T140000
DTSTAMP:20260420T031930
CREATED:20260207T052805Z
LAST-MODIFIED:20260221T070153Z
UID:10002514-1773482400-1773496800@thegaragelagrange.com
SUMMARY:Spring Craft & Vendor Show
DESCRIPTION:Get ready for a fantastic day at our annual Spring Craft & Vendor Show on Saturday\, March 14\, 2026\, from 10:00 AM to 2:00 PM! Discover one‑of‑a‑kind handmade items\, shop with amazing local vendors\, and enjoy a lively community atmosphere. Mark your calendar\, you won’t want to miss this event at The Garage in LaGrange!
URL:https://thegaragelagrange.com/event/spring-craft-vendor-show-2/
LOCATION:The Garage\, 111 W Lafayette St.\, LaGrange\, IN\, 46746\, United States
CATEGORIES:Community
ATTACH;FMTTYPE=image/png:https://thegaragelagrange.com/wp-content/uploads/2026/02/Spring-craft-vendor-show-2023-2-002.png
END:VEVENT
BEGIN:VEVENT
DTSTART;TZID=America/Indiana/Indianapolis:20260313T080000
DTEND;TZID=America/Indiana/Indianapolis:20260313T150000
DTSTAMP:20260420T031930
CREATED:20260326T151427Z
LAST-MODIFIED:20260327T203554Z
UID:10002537-1773388800-1773414000@thegaragelagrange.com
SUMMARY:LaGrange County Career Fair
DESCRIPTION:Hiring Event: LaGrange County Career Fair\nHosted at The Garage Community Center \n📅 April 13 \n⏰ 12:00 PM – 3:00 PM \n📍 The Garage Community Center \nGet ready for a high‑energy hiring event you won’t want to miss! Whether you’re exploring new opportunities or ready to take the next step in your career\, this career fair brings top local employers together under one roof. \n🚀 Employers On‑Site:\n\nEXO‑S\nParkview Health\nPostle Aluminum Co.\nARC of LaGrange County\n\nDiscover open positions\, meet hiring teams\, and learn about career paths right here in LaGrange County. \nFor more information\, visit www.indianaCAREERconnect.com 🔎 Job Order #10836774 \nEvent Partners: \nWorkOne • Indiana Career Connect • Northeast Indiana Works • The Garage Community Center \n 
URL:https://thegaragelagrange.com/event/northeast-indiana-works-meeting/
LOCATION:The Garage\, 111 W Lafayette St.\, LaGrange\, IN\, 46746\, United States
CATEGORIES:Community
ATTACH;FMTTYPE=image/png:https://thegaragelagrange.com/wp-content/uploads/2026/03/Career-Fair.png
END:VEVENT
BEGIN:VEVENT
DTSTART;TZID=America/Indiana/Indianapolis:20260312T153000
DTEND;TZID=America/Indiana/Indianapolis:20260312T173000
DTSTAMP:20260420T031930
CREATED:20251121T043142Z
LAST-MODIFIED:20251123T180253Z
UID:10002389-1773329400-1773336600@thegaragelagrange.com
SUMMARY:Community Harvest
DESCRIPTION:
URL:https://thegaragelagrange.com/event/community-harvest-36/2026-03-12/
LOCATION:The Garage\, 111 W Lafayette St.\, LaGrange\, IN\, 46746\, United States
CATEGORIES:Community
ATTACH;FMTTYPE=image/png:https://thegaragelagrange.com/wp-content/uploads/2025/11/CHFB-LogoMain.png
END:VEVENT
BEGIN:VEVENT
DTSTART;TZID=America/Indiana/Indianapolis:20260311T120000
DTEND;TZID=America/Indiana/Indianapolis:20260311T130000
DTSTAMP:20260420T031930
CREATED:20251104T030858Z
LAST-MODIFIED:20251104T030858Z
UID:10002208-1773230400-1773234000@thegaragelagrange.com
SUMMARY:The Garage Committee Meeting
DESCRIPTION:
URL:https://thegaragelagrange.com/event/the-garage-committee-meeting-9/2026-03-11/
LOCATION:The Garage\, 111 W Lafayette St.\, LaGrange\, IN\, 46746\, United States
END:VEVENT
BEGIN:VEVENT
DTSTART;TZID=America/Indiana/Indianapolis:20260309T170000
DTEND;TZID=America/Indiana/Indianapolis:20260309T200000
DTSTAMP:20260420T031930
CREATED:20251022T212008Z
LAST-MODIFIED:20251024T104938Z
UID:10002014-1773075600-1773086400@thegaragelagrange.com
SUMMARY:Campus Life
DESCRIPTION:
URL:https://thegaragelagrange.com/event/campus-life/2026-03-09/
LOCATION:The Garage\, 111 W Lafayette St.\, LaGrange\, IN\, 46746\, United States
END:VEVENT
BEGIN:VEVENT
DTSTART;TZID=America/Indiana/Indianapolis:20260308T080000
DTEND;TZID=America/Indiana/Indianapolis:20260308T233000
DTSTAMP:20260420T031930
CREATED:20260207T051317Z
LAST-MODIFIED:20260207T051317Z
UID:10002505-1772956800-1773012600@thegaragelagrange.com
SUMMARY:Private Rental
DESCRIPTION:
URL:https://thegaragelagrange.com/event/private-rental-36/
LOCATION:The Garage\, 111 W Lafayette St.\, LaGrange\, IN\, 46746\, United States
CATEGORIES:Private
ATTACH;FMTTYPE=image/jpeg:https://thegaragelagrange.com/wp-content/uploads/2025/11/Private-Rubber-Stamp-17-01-scaled.jpg
END:VEVENT
BEGIN:VEVENT
DTSTART;TZID=America/Indiana/Indianapolis:20260307T080000
DTEND;TZID=America/Indiana/Indianapolis:20260307T233000
DTSTAMP:20260420T031930
CREATED:20260207T045517Z
LAST-MODIFIED:20260207T051236Z
UID:10002495-1772870400-1772926200@thegaragelagrange.com
SUMMARY:Private Rental
DESCRIPTION:
URL:https://thegaragelagrange.com/event/private-rental-35/
LOCATION:The Garage\, 111 W Lafayette St.\, LaGrange\, IN\, 46746\, United States
CATEGORIES:Private
ATTACH;FMTTYPE=image/jpeg:https://thegaragelagrange.com/wp-content/uploads/2025/11/Private-Rubber-Stamp-17-01-scaled.jpg
END:VEVENT
BEGIN:VEVENT
DTSTART;TZID=America/Indiana/Indianapolis:20260304T180000
DTEND;TZID=America/Indiana/Indianapolis:20260304T200000
DTSTAMP:20260420T031930
CREATED:20260206T131448Z
LAST-MODIFIED:20260221T070448Z
UID:10002429-1772647200-1772654400@thegaragelagrange.com
SUMMARY:Private Rental
DESCRIPTION:
URL:https://thegaragelagrange.com/event/private-rental-33/2026-03-04/
LOCATION:The Garage\, 111 W Lafayette St.\, LaGrange\, IN\, 46746\, United States
CATEGORIES:Private
ATTACH;FMTTYPE=image/jpeg:https://thegaragelagrange.com/wp-content/uploads/2025/11/Private-Rubber-Stamp-17-01-scaled.jpg
END:VEVENT
BEGIN:VEVENT
DTSTART;TZID=America/Indiana/Indianapolis:20260303T110000
DTEND;TZID=America/Indiana/Indianapolis:20260303T140000
DTSTAMP:20260420T031930
CREATED:20260207T044946Z
LAST-MODIFIED:20260207T044946Z
UID:10002493-1772535600-1772546400@thegaragelagrange.com
SUMMARY:LaGrange County Chamber's Young Professionals Lunch & Connect
DESCRIPTION:
URL:https://thegaragelagrange.com/event/lagrange-county-chamber-young-professionals-luncheon/
LOCATION:The Garage\, 111 W Lafayette St.\, LaGrange\, IN\, 46746\, United States
CATEGORIES:Community
END:VEVENT
END:VCALENDAR