BEGIN:VCALENDAR
VERSION:2.0
PRODID:-//The Garage Community Center - ECPv6.15.17.1//NONSGML v1.0//EN
CALSCALE:GREGORIAN
METHOD:PUBLISH
X-WR-CALNAME:The Garage Community Center
X-ORIGINAL-URL:https://thegaragelagrange.com
X-WR-CALDESC:Events for The Garage Community Center
REFRESH-INTERVAL;VALUE=DURATION:PT1H
X-Robots-Tag:noindex
X-PUBLISHED-TTL:PT1H
BEGIN:VTIMEZONE
TZID:America/Indiana/Indianapolis
BEGIN:DAYLIGHT
TZOFFSETFROM:-0500
TZOFFSETTO:-0400
TZNAME:EDT
DTSTART:20240310T070000
END:DAYLIGHT
BEGIN:STANDARD
TZOFFSETFROM:-0400
TZOFFSETTO:-0500
TZNAME:EST
DTSTART:20241103T060000
END:STANDARD
BEGIN:DAYLIGHT
TZOFFSETFROM:-0500
TZOFFSETTO:-0400
TZNAME:EDT
DTSTART:20250309T070000
END:DAYLIGHT
BEGIN:STANDARD
TZOFFSETFROM:-0400
TZOFFSETTO:-0500
TZNAME:EST
DTSTART:20251102T060000
END:STANDARD
BEGIN:DAYLIGHT
TZOFFSETFROM:-0500
TZOFFSETTO:-0400
TZNAME:EDT
DTSTART:20260308T070000
END:DAYLIGHT
BEGIN:STANDARD
TZOFFSETFROM:-0400
TZOFFSETTO:-0500
TZNAME:EST
DTSTART:20261101T060000
END:STANDARD
END:VTIMEZONE
BEGIN:VEVENT
DTSTART;TZID=America/Indiana/Indianapolis:20251102T140000
DTEND;TZID=America/Indiana/Indianapolis:20251102T160000
DTSTAMP:20260420T230221
CREATED:20251029T032830Z
LAST-MODIFIED:20251029T032940Z
UID:10002202-1762092000-1762099200@thegaragelagrange.com
SUMMARY:Readers & Authors Gathering sponsored by Chapters Bookshop
DESCRIPTION:Join us for an inspiring Sunday afternoon where stories come to life! We’re inviting all readers and authors to gather and celebrate the incredible power of the written word. Imagine browsing through an array of captivating books\, each one a doorway to new adventures waiting to unfold. \nAuthors will be on hand to share their literary creations and offer their books for sale\, giving you the perfect opportunity to find that next great read to cozy up with this winter. Not only will you expand your reading list\, but you’ll also have the chance to chat with the writers behind the stories! \nAnd the best part? This delightful event is absolutely free! We’ll also have refreshments to keep your spirits high as you mingle and explore. Whether you’re a lifelong bookworm or just looking to get lost in a new story\, everyone of all ages is welcome to join the celebration. \nDon’t miss out on this wonderful opportunity to connect with fellow book lovers and support local authors\, all sponsored by Chapters Bookstore. Mark your calendars\, and let’s make some literary magic together
URL:https://thegaragelagrange.com/event/readers-authors-gathering-sponsored-by-chapters-bookshop/
LOCATION:The Garage\, 111 W Lafayette St.\, LaGrange\, IN\, 46746\, United States
CATEGORIES:Community
ATTACH;FMTTYPE=image/jpeg:https://thegaragelagrange.com/wp-content/uploads/2025/10/download.jpeg
END:VEVENT
END:VCALENDAR