BEGIN:VCALENDAR
VERSION:2.0
PRODID:-//The Garage Community Center - ECPv6.15.17.1//NONSGML v1.0//EN
CALSCALE:GREGORIAN
METHOD:PUBLISH
X-WR-CALNAME:The Garage Community Center
X-ORIGINAL-URL:https://thegaragelagrange.com
X-WR-CALDESC:Events for The Garage Community Center
REFRESH-INTERVAL;VALUE=DURATION:PT1H
X-Robots-Tag:noindex
X-PUBLISHED-TTL:PT1H
BEGIN:VTIMEZONE
TZID:America/Indiana/Indianapolis
BEGIN:DAYLIGHT
TZOFFSETFROM:-0500
TZOFFSETTO:-0400
TZNAME:EDT
DTSTART:20240310T070000
END:DAYLIGHT
BEGIN:STANDARD
TZOFFSETFROM:-0400
TZOFFSETTO:-0500
TZNAME:EST
DTSTART:20241103T060000
END:STANDARD
BEGIN:DAYLIGHT
TZOFFSETFROM:-0500
TZOFFSETTO:-0400
TZNAME:EDT
DTSTART:20250309T070000
END:DAYLIGHT
BEGIN:STANDARD
TZOFFSETFROM:-0400
TZOFFSETTO:-0500
TZNAME:EST
DTSTART:20251102T060000
END:STANDARD
BEGIN:DAYLIGHT
TZOFFSETFROM:-0500
TZOFFSETTO:-0400
TZNAME:EDT
DTSTART:20260308T070000
END:DAYLIGHT
BEGIN:STANDARD
TZOFFSETFROM:-0400
TZOFFSETTO:-0500
TZNAME:EST
DTSTART:20261101T060000
END:STANDARD
END:VTIMEZONE
BEGIN:VEVENT
DTSTART;TZID=America/Indiana/Indianapolis:20250208T150000
DTEND;TZID=America/Indiana/Indianapolis:20250208T233000
DTSTAMP:20260421T151019
CREATED:20250110T105936Z
LAST-MODIFIED:20251123T184219Z
UID:10001617-1739026800-1739057400@thegaragelagrange.com
SUMMARY:Private Rental
DESCRIPTION:
URL:https://thegaragelagrange.com/event/private-event-111/
LOCATION:The Garage\, 111 W Lafayette St.\, LaGrange\, IN\, 46746\, United States
CATEGORIES:Private
END:VEVENT
BEGIN:VEVENT
DTSTART;TZID=America/Indiana/Indianapolis:20250209T070000
DTEND;TZID=America/Indiana/Indianapolis:20250209T233000
DTSTAMP:20260421T151019
CREATED:20241114T110016Z
LAST-MODIFIED:20251123T184346Z
UID:10001449-1739084400-1739143800@thegaragelagrange.com
SUMMARY:Private Rental
DESCRIPTION:
URL:https://thegaragelagrange.com/event/private-event-98/
LOCATION:The Garage\, 111 W Lafayette St.\, LaGrange\, IN\, 46746\, United States
CATEGORIES:Private
END:VEVENT
BEGIN:VEVENT
DTSTART;TZID=America/Indiana/Indianapolis:20250215T150000
DTEND;TZID=America/Indiana/Indianapolis:20250215T233000
DTSTAMP:20260421T151019
CREATED:20250204T190219Z
LAST-MODIFIED:20251123T183704Z
UID:10001682-1739631600-1739662200@thegaragelagrange.com
SUMMARY:Private Rental
DESCRIPTION:
URL:https://thegaragelagrange.com/event/private-event-115/
LOCATION:The Garage\, 111 W Lafayette St.\, LaGrange\, IN\, 46746\, United States
CATEGORIES:Private
END:VEVENT
BEGIN:VEVENT
DTSTART;TZID=America/Indiana/Indianapolis:20250222T080000
DTEND;TZID=America/Indiana/Indianapolis:20250222T233000
DTSTAMP:20260421T151019
CREATED:20241029T183217Z
LAST-MODIFIED:20251123T183709Z
UID:10001437-1740211200-1740267000@thegaragelagrange.com
SUMMARY:Private Rental
DESCRIPTION:
URL:https://thegaragelagrange.com/event/private-rental-5/
LOCATION:The Garage\, 111 W Lafayette St.\, LaGrange\, IN\, 46746\, United States
CATEGORIES:Private
END:VEVENT
BEGIN:VEVENT
DTSTART;TZID=America/Indiana/Indianapolis:20250223T073000
DTEND;TZID=America/Indiana/Indianapolis:20250223T233000
DTSTAMP:20260421T151019
CREATED:20250204T190543Z
LAST-MODIFIED:20251123T183704Z
UID:10001684-1740295800-1740353400@thegaragelagrange.com
SUMMARY:Private Rental
DESCRIPTION:
URL:https://thegaragelagrange.com/event/private-event-116/
LOCATION:The Garage\, 111 W Lafayette St.\, LaGrange\, IN\, 46746\, United States
CATEGORIES:Private
END:VEVENT
BEGIN:VEVENT
DTSTART;TZID=America/Indiana/Indianapolis:20250224T073000
DTEND;TZID=America/Indiana/Indianapolis:20250224T233000
DTSTAMP:20260421T151019
CREATED:20250224T114929Z
LAST-MODIFIED:20251123T183626Z
UID:10001723-1740382200-1740439800@thegaragelagrange.com
SUMMARY:Private Rental
DESCRIPTION:
URL:https://thegaragelagrange.com/event/private-event-128/
LOCATION:The Garage\, 111 W Lafayette St.\, LaGrange\, IN\, 46746\, United States
CATEGORIES:Private
END:VEVENT
BEGIN:VEVENT
DTSTART;TZID=America/Indiana/Indianapolis:20250226T150000
DTEND;TZID=America/Indiana/Indianapolis:20250226T200000
DTSTAMP:20260421T151019
CREATED:20250204T191228Z
LAST-MODIFIED:20251123T183637Z
UID:10001686-1740582000-1740600000@thegaragelagrange.com
SUMMARY:Private Rental
DESCRIPTION:
URL:https://thegaragelagrange.com/event/private-event-117/
LOCATION:The Garage\, 111 W Lafayette St.\, LaGrange\, IN\, 46746\, United States
CATEGORIES:Private
END:VEVENT
END:VCALENDAR