BEGIN:VCALENDAR
VERSION:2.0
PRODID:-//The Garage Community Center - ECPv6.15.17.1//NONSGML v1.0//EN
CALSCALE:GREGORIAN
METHOD:PUBLISH
X-WR-CALNAME:The Garage Community Center
X-ORIGINAL-URL:https://thegaragelagrange.com
X-WR-CALDESC:Events for The Garage Community Center
REFRESH-INTERVAL;VALUE=DURATION:PT1H
X-Robots-Tag:noindex
X-PUBLISHED-TTL:PT1H
BEGIN:VTIMEZONE
TZID:America/Indiana/Indianapolis
BEGIN:DAYLIGHT
TZOFFSETFROM:-0500
TZOFFSETTO:-0400
TZNAME:EDT
DTSTART:20230312T070000
END:DAYLIGHT
BEGIN:STANDARD
TZOFFSETFROM:-0400
TZOFFSETTO:-0500
TZNAME:EST
DTSTART:20231105T060000
END:STANDARD
BEGIN:DAYLIGHT
TZOFFSETFROM:-0500
TZOFFSETTO:-0400
TZNAME:EDT
DTSTART:20240310T070000
END:DAYLIGHT
BEGIN:STANDARD
TZOFFSETFROM:-0400
TZOFFSETTO:-0500
TZNAME:EST
DTSTART:20241103T060000
END:STANDARD
BEGIN:DAYLIGHT
TZOFFSETFROM:-0500
TZOFFSETTO:-0400
TZNAME:EDT
DTSTART:20250309T070000
END:DAYLIGHT
BEGIN:STANDARD
TZOFFSETFROM:-0400
TZOFFSETTO:-0500
TZNAME:EST
DTSTART:20251102T060000
END:STANDARD
END:VTIMEZONE
BEGIN:VEVENT
DTSTART;TZID=America/Indiana/Indianapolis:20241206T080000
DTEND;TZID=America/Indiana/Indianapolis:20241206T233000
DTSTAMP:20260421T180203
CREATED:20240809T171807Z
LAST-MODIFIED:20251123T183746Z
UID:10001372-1733472000-1733527800@thegaragelagrange.com
SUMMARY:Private Rental
DESCRIPTION:
URL:https://thegaragelagrange.com/event/private-event-80/
LOCATION:The Garage\, 111 W Lafayette St.\, LaGrange\, IN\, 46746\, United States
CATEGORIES:Private
END:VEVENT
BEGIN:VEVENT
DTSTART;TZID=America/Indiana/Indianapolis:20241207T070000
DTEND;TZID=America/Indiana/Indianapolis:20241207T233000
DTSTAMP:20260421T180203
CREATED:20240126T123936Z
LAST-MODIFIED:20251123T184500Z
UID:10000707-1733554800-1733614200@thegaragelagrange.com
SUMMARY:Private Rental
DESCRIPTION:
URL:https://thegaragelagrange.com/event/private-event-50/
LOCATION:The Garage\, 111 W Lafayette St.\, LaGrange\, IN\, 46746\, United States
CATEGORIES:Private
END:VEVENT
BEGIN:VEVENT
DTSTART;TZID=America/Indiana/Indianapolis:20241214T150000
DTEND;TZID=America/Indiana/Indianapolis:20241214T233000
DTSTAMP:20260421T180203
CREATED:20241114T105207Z
LAST-MODIFIED:20251123T184354Z
UID:10001444-1734188400-1734219000@thegaragelagrange.com
SUMMARY:Private Rental
DESCRIPTION:
URL:https://thegaragelagrange.com/event/private-event-96/
LOCATION:The Garage\, 111 W Lafayette St.\, LaGrange\, IN\, 46746\, United States
CATEGORIES:Private
END:VEVENT
BEGIN:VEVENT
DTSTART;TZID=America/Indiana/Indianapolis:20241215T080000
DTEND;TZID=America/Indiana/Indianapolis:20241215T233000
DTSTAMP:20260421T180203
CREATED:20241127T111857Z
LAST-MODIFIED:20251123T184305Z
UID:10001459-1734249600-1734305400@thegaragelagrange.com
SUMMARY:Private Rental
DESCRIPTION:
URL:https://thegaragelagrange.com/event/private-event-104/
LOCATION:The Garage\, 111 W Lafayette St.\, LaGrange\, IN\, 46746\, United States
CATEGORIES:Private
END:VEVENT
BEGIN:VEVENT
DTSTART;TZID=America/Indiana/Indianapolis:20241218T080000
DTEND;TZID=America/Indiana/Indianapolis:20241218T233000
DTSTAMP:20260421T180203
CREATED:20241127T111939Z
LAST-MODIFIED:20251123T184258Z
UID:10001460-1734508800-1734564600@thegaragelagrange.com
SUMMARY:Private Rental
DESCRIPTION:
URL:https://thegaragelagrange.com/event/private-event-105/
LOCATION:The Garage\, 111 W Lafayette St.\, LaGrange\, IN\, 46746\, United States
CATEGORIES:Private
END:VEVENT
BEGIN:VEVENT
DTSTART;TZID=America/Indiana/Indianapolis:20241220T150000
DTEND;TZID=America/Indiana/Indianapolis:20241220T233000
DTSTAMP:20260421T180203
CREATED:20240809T171846Z
LAST-MODIFIED:20251123T183720Z
UID:10001373-1734706800-1734737400@thegaragelagrange.com
SUMMARY:Private Rental
DESCRIPTION:
URL:https://thegaragelagrange.com/event/private-event-81/
LOCATION:The Garage\, 111 W Lafayette St.\, LaGrange\, IN\, 46746\, United States
CATEGORIES:Private
END:VEVENT
BEGIN:VEVENT
DTSTART;TZID=America/Indiana/Indianapolis:20241221T073000
DTEND;TZID=America/Indiana/Indianapolis:20241221T233000
DTSTAMP:20260421T180203
CREATED:20240809T171922Z
LAST-MODIFIED:20251123T183719Z
UID:10001374-1734766200-1734823800@thegaragelagrange.com
SUMMARY:Private Rental
DESCRIPTION:
URL:https://thegaragelagrange.com/event/private-event-82/
LOCATION:The Garage\, 111 W Lafayette St.\, LaGrange\, IN\, 46746\, United States
CATEGORIES:Private
END:VEVENT
BEGIN:VEVENT
DTSTART;TZID=America/Indiana/Indianapolis:20241222T150000
DTEND;TZID=America/Indiana/Indianapolis:20241222T233000
DTSTAMP:20260421T180203
CREATED:20241114T105437Z
LAST-MODIFIED:20251123T184340Z
UID:10001445-1734879600-1734910200@thegaragelagrange.com
SUMMARY:Private Rental
DESCRIPTION:
URL:https://thegaragelagrange.com/event/private-event-97/
LOCATION:The Garage\, 111 W Lafayette St.\, LaGrange\, IN\, 46746\, United States
CATEGORIES:Private
END:VEVENT
BEGIN:VEVENT
DTSTART;TZID=America/Indiana/Indianapolis:20241224T150000
DTEND;TZID=America/Indiana/Indianapolis:20241224T233000
DTSTAMP:20260421T180203
CREATED:20241029T183032Z
LAST-MODIFIED:20251123T183710Z
UID:10001436-1735052400-1735083000@thegaragelagrange.com
SUMMARY:Private Rental
DESCRIPTION:
URL:https://thegaragelagrange.com/event/private-rental-4/
LOCATION:The Garage\, 111 W Lafayette St.\, LaGrange\, IN\, 46746\, United States
CATEGORIES:Private
END:VEVENT
BEGIN:VEVENT
DTSTART;TZID=America/Indiana/Indianapolis:20241225T080000
DTEND;TZID=America/Indiana/Indianapolis:20241225T233000
DTSTAMP:20260421T180203
CREATED:20240514T111039Z
LAST-MODIFIED:20251123T184747Z
UID:10001303-1735113600-1735169400@thegaragelagrange.com
SUMMARY:Private Rental
DESCRIPTION:
URL:https://thegaragelagrange.com/event/private-event-73/
LOCATION:The Garage\, 111 W Lafayette St.\, LaGrange\, IN\, 46746\, United States
CATEGORIES:Private
END:VEVENT
END:VCALENDAR