BEGIN:VCALENDAR
VERSION:2.0
PRODID:-//The Garage Community Center - ECPv6.15.17.1//NONSGML v1.0//EN
CALSCALE:GREGORIAN
METHOD:PUBLISH
X-WR-CALNAME:The Garage Community Center
X-ORIGINAL-URL:https://thegaragelagrange.com
X-WR-CALDESC:Events for The Garage Community Center
REFRESH-INTERVAL;VALUE=DURATION:PT1H
X-Robots-Tag:noindex
X-PUBLISHED-TTL:PT1H
BEGIN:VTIMEZONE
TZID:America/Indiana/Indianapolis
BEGIN:DAYLIGHT
TZOFFSETFROM:-0500
TZOFFSETTO:-0400
TZNAME:EDT
DTSTART:20230312T070000
END:DAYLIGHT
BEGIN:STANDARD
TZOFFSETFROM:-0400
TZOFFSETTO:-0500
TZNAME:EST
DTSTART:20231105T060000
END:STANDARD
BEGIN:DAYLIGHT
TZOFFSETFROM:-0500
TZOFFSETTO:-0400
TZNAME:EDT
DTSTART:20240310T070000
END:DAYLIGHT
BEGIN:STANDARD
TZOFFSETFROM:-0400
TZOFFSETTO:-0500
TZNAME:EST
DTSTART:20241103T060000
END:STANDARD
BEGIN:DAYLIGHT
TZOFFSETFROM:-0500
TZOFFSETTO:-0400
TZNAME:EDT
DTSTART:20250309T070000
END:DAYLIGHT
BEGIN:STANDARD
TZOFFSETFROM:-0400
TZOFFSETTO:-0500
TZNAME:EST
DTSTART:20251102T060000
END:STANDARD
END:VTIMEZONE
BEGIN:VEVENT
DTSTART;TZID=America/Indiana/Indianapolis:20240802T150000
DTEND;TZID=America/Indiana/Indianapolis:20240802T233000
DTSTAMP:20260424T115141
CREATED:20240529T151025Z
LAST-MODIFIED:20251123T183750Z
UID:10001307-1722610800-1722641400@thegaragelagrange.com
SUMMARY:Private Rental
DESCRIPTION:
URL:https://thegaragelagrange.com/event/private-event-75/
LOCATION:The Garage\, 111 W Lafayette St.\, LaGrange\, IN\, 46746\, United States
CATEGORIES:Private
END:VEVENT
BEGIN:VEVENT
DTSTART;TZID=America/Indiana/Indianapolis:20240810T150000
DTEND;TZID=America/Indiana/Indianapolis:20240810T233000
DTSTAMP:20260424T115141
CREATED:20240514T110142Z
LAST-MODIFIED:20251123T184807Z
UID:10001295-1723302000-1723332600@thegaragelagrange.com
SUMMARY:Private Rental
DESCRIPTION:
URL:https://thegaragelagrange.com/event/private-event-71/
LOCATION:The Garage\, 111 W Lafayette St.\, LaGrange\, IN\, 46746\, United States
CATEGORIES:Private
END:VEVENT
BEGIN:VEVENT
DTSTART;TZID=America/Indiana/Indianapolis:20240817T060000
DTEND;TZID=America/Indiana/Indianapolis:20240817T140000
DTSTAMP:20260424T115141
CREATED:20240126T122641Z
LAST-MODIFIED:20251123T184511Z
UID:10000703-1723874400-1723903200@thegaragelagrange.com
SUMMARY:Private Rental
DESCRIPTION:
URL:https://thegaragelagrange.com/event/private-event-49/
LOCATION:The Garage\, 111 W Lafayette St.\, LaGrange\, IN\, 46746\, United States
CATEGORIES:Private
END:VEVENT
BEGIN:VEVENT
DTSTART;TZID=America/Indiana/Indianapolis:20240824T150000
DTEND;TZID=America/Indiana/Indianapolis:20240824T233000
DTSTAMP:20260424T115141
CREATED:20240809T105308Z
LAST-MODIFIED:20251123T183750Z
UID:10001365-1724511600-1724542200@thegaragelagrange.com
SUMMARY:Private Rental
DESCRIPTION:
URL:https://thegaragelagrange.com/event/private-event-76/
LOCATION:The Garage\, 111 W Lafayette St.\, LaGrange\, IN\, 46746\, United States
CATEGORIES:Private
END:VEVENT
BEGIN:VEVENT
DTSTART;TZID=America/Indiana/Indianapolis:20240831T080000
DTEND;TZID=America/Indiana/Indianapolis:20240831T233000
DTSTAMP:20260424T115141
CREATED:20240809T105701Z
LAST-MODIFIED:20251123T183749Z
UID:10001368-1725091200-1725147000@thegaragelagrange.com
SUMMARY:Private Rental
DESCRIPTION:
URL:https://thegaragelagrange.com/event/private-event-77/
LOCATION:The Garage\, 111 W Lafayette St.\, LaGrange\, IN\, 46746\, United States
CATEGORIES:Private
END:VEVENT
END:VCALENDAR