BEGIN:VCALENDAR
VERSION:2.0
PRODID:-//The Garage Community Center - ECPv6.15.17.1//NONSGML v1.0//EN
CALSCALE:GREGORIAN
METHOD:PUBLISH
X-ORIGINAL-URL:https://thegaragelagrange.com
X-WR-CALDESC:Events for The Garage Community Center
REFRESH-INTERVAL;VALUE=DURATION:PT1H
X-Robots-Tag:noindex
X-PUBLISHED-TTL:PT1H
BEGIN:VTIMEZONE
TZID:America/Indiana/Indianapolis
BEGIN:DAYLIGHT
TZOFFSETFROM:-0500
TZOFFSETTO:-0400
TZNAME:EDT
DTSTART:20230312T070000
END:DAYLIGHT
BEGIN:STANDARD
TZOFFSETFROM:-0400
TZOFFSETTO:-0500
TZNAME:EST
DTSTART:20231105T060000
END:STANDARD
BEGIN:DAYLIGHT
TZOFFSETFROM:-0500
TZOFFSETTO:-0400
TZNAME:EDT
DTSTART:20240310T070000
END:DAYLIGHT
BEGIN:STANDARD
TZOFFSETFROM:-0400
TZOFFSETTO:-0500
TZNAME:EST
DTSTART:20241103T060000
END:STANDARD
BEGIN:DAYLIGHT
TZOFFSETFROM:-0500
TZOFFSETTO:-0400
TZNAME:EDT
DTSTART:20250309T070000
END:DAYLIGHT
BEGIN:STANDARD
TZOFFSETFROM:-0400
TZOFFSETTO:-0500
TZNAME:EST
DTSTART:20251102T060000
END:STANDARD
END:VTIMEZONE
BEGIN:VEVENT
DTSTART;TZID=America/Indiana/Indianapolis:20240110T070000
DTEND;TZID=America/Indiana/Indianapolis:20240110T150000
DTSTAMP:20260425T065639
CREATED:20231027T103426Z
LAST-MODIFIED:20251123T185319Z
UID:10000641-1704870000-1704898800@thegaragelagrange.com
SUMMARY:Private Rental
DESCRIPTION:
URL:https://thegaragelagrange.com/event/private-event-23/
LOCATION:The Garage\, 111 W Lafayette St.\, LaGrange\, IN\, 46746\, United States
CATEGORIES:Private
END:VEVENT
BEGIN:VEVENT
DTSTART;TZID=America/Indiana/Indianapolis:20240113T060000
DTEND;TZID=America/Indiana/Indianapolis:20240113T140000
DTSTAMP:20260425T065639
CREATED:20231027T103530Z
LAST-MODIFIED:20251123T185312Z
UID:10000642-1705125600-1705154400@thegaragelagrange.com
SUMMARY:Private Rental
DESCRIPTION:
URL:https://thegaragelagrange.com/event/private-event-24/
LOCATION:The Garage\, 111 W Lafayette St.\, LaGrange\, IN\, 46746\, United States
CATEGORIES:Private
END:VEVENT
BEGIN:VEVENT
DTSTART;TZID=America/Indiana/Indianapolis:20240121T060000
DTEND;TZID=America/Indiana/Indianapolis:20240121T233000
DTSTAMP:20260425T065639
CREATED:20240108T144522Z
LAST-MODIFIED:20251123T185125Z
UID:10000649-1705816800-1705879800@thegaragelagrange.com
SUMMARY:Private Rental
DESCRIPTION:
URL:https://thegaragelagrange.com/event/private-event-22/
LOCATION:The Garage\, 111 W Lafayette St.\, LaGrange\, IN\, 46746\, United States
CATEGORIES:Private
END:VEVENT
BEGIN:VEVENT
DTSTART;TZID=America/Indiana/Indianapolis:20240127T060000
DTEND;TZID=America/Indiana/Indianapolis:20240127T233000
DTSTAMP:20260425T065639
CREATED:20240108T151518Z
LAST-MODIFIED:20251123T185119Z
UID:10000654-1706335200-1706398200@thegaragelagrange.com
SUMMARY:Private Rental
DESCRIPTION:
URL:https://thegaragelagrange.com/event/private-event-28/
LOCATION:The Garage\, 111 W Lafayette St.\, LaGrange\, IN\, 46746\, United States
CATEGORIES:Private
END:VEVENT
BEGIN:VEVENT
DTSTART;TZID=America/Indiana/Indianapolis:20240128T080000
DTEND;TZID=America/Indiana/Indianapolis:20240128T170000
DTSTAMP:20260425T065639
CREATED:20240126T115807Z
LAST-MODIFIED:20251123T184612Z
UID:10000688-1706428800-1706461200@thegaragelagrange.com
SUMMARY:Private Rental
DESCRIPTION:
URL:https://thegaragelagrange.com/event/private-event-39/
LOCATION:The Garage\, 111 W Lafayette St.\, LaGrange\, IN\, 46746\, United States
CATEGORIES:Private
END:VEVENT
END:VCALENDAR