BEGIN:VCALENDAR
VERSION:2.0
PRODID:-//The Garage Community Center - ECPv6.15.17.1//NONSGML v1.0//EN
CALSCALE:GREGORIAN
METHOD:PUBLISH
X-ORIGINAL-URL:https://thegaragelagrange.com
X-WR-CALDESC:Events for The Garage Community Center
REFRESH-INTERVAL;VALUE=DURATION:PT1H
X-Robots-Tag:noindex
X-PUBLISHED-TTL:PT1H
BEGIN:VTIMEZONE
TZID:America/Indiana/Indianapolis
BEGIN:DAYLIGHT
TZOFFSETFROM:-0500
TZOFFSETTO:-0400
TZNAME:EDT
DTSTART:20250309T070000
END:DAYLIGHT
BEGIN:STANDARD
TZOFFSETFROM:-0400
TZOFFSETTO:-0500
TZNAME:EST
DTSTART:20251102T060000
END:STANDARD
BEGIN:DAYLIGHT
TZOFFSETFROM:-0500
TZOFFSETTO:-0400
TZNAME:EDT
DTSTART:20260308T070000
END:DAYLIGHT
BEGIN:STANDARD
TZOFFSETFROM:-0400
TZOFFSETTO:-0500
TZNAME:EST
DTSTART:20261101T060000
END:STANDARD
BEGIN:DAYLIGHT
TZOFFSETFROM:-0500
TZOFFSETTO:-0400
TZNAME:EDT
DTSTART:20270314T070000
END:DAYLIGHT
BEGIN:STANDARD
TZOFFSETFROM:-0400
TZOFFSETTO:-0500
TZNAME:EST
DTSTART:20271107T060000
END:STANDARD
END:VTIMEZONE
BEGIN:VEVENT
DTSTART;TZID=America/Indiana/Indianapolis:20260507T153000
DTEND;TZID=America/Indiana/Indianapolis:20260507T190000
DTSTAMP:20260419T224016
CREATED:20250827T200004Z
LAST-MODIFIED:20251123T190640Z
UID:10002056-1778167800-1778180400@thegaragelagrange.com
SUMMARY:Club Hope After School Program
DESCRIPTION:
URL:https://thegaragelagrange.com/event/club-hope-after-school-program/2026-05-07/
LOCATION:IN
ATTACH;FMTTYPE=image/jpeg:https://thegaragelagrange.com/wp-content/uploads/2025/10/Club-Hope.jpg
END:VEVENT
BEGIN:VEVENT
DTSTART;TZID=America/Indiana/Indianapolis:20260514T153000
DTEND;TZID=America/Indiana/Indianapolis:20260514T190000
DTSTAMP:20260419T224016
CREATED:20250827T200004Z
LAST-MODIFIED:20251123T190640Z
UID:10002057-1778772600-1778785200@thegaragelagrange.com
SUMMARY:Club Hope After School Program
DESCRIPTION:
URL:https://thegaragelagrange.com/event/club-hope-after-school-program/2026-05-14/
LOCATION:IN
ATTACH;FMTTYPE=image/jpeg:https://thegaragelagrange.com/wp-content/uploads/2025/10/Club-Hope.jpg
END:VEVENT
BEGIN:VEVENT
DTSTART;TZID=America/Indiana/Indianapolis:20260521T153000
DTEND;TZID=America/Indiana/Indianapolis:20260521T190000
DTSTAMP:20260419T224016
CREATED:20250827T200004Z
LAST-MODIFIED:20251123T190640Z
UID:10002058-1779377400-1779390000@thegaragelagrange.com
SUMMARY:Club Hope After School Program
DESCRIPTION:
URL:https://thegaragelagrange.com/event/club-hope-after-school-program/2026-05-21/
LOCATION:IN
ATTACH;FMTTYPE=image/jpeg:https://thegaragelagrange.com/wp-content/uploads/2025/10/Club-Hope.jpg
END:VEVENT
BEGIN:VEVENT
DTSTART;TZID=America/Indiana/Indianapolis:20260528T153000
DTEND;TZID=America/Indiana/Indianapolis:20260528T190000
DTSTAMP:20260419T224016
CREATED:20251024T104752Z
LAST-MODIFIED:20251123T175049Z
UID:10002193-1779982200-1779994800@thegaragelagrange.com
SUMMARY:Club Hope After School Program
DESCRIPTION:
URL:https://thegaragelagrange.com/event/club-hope-after-school-program-2/
LOCATION:The Garage\, 111 W Lafayette St.\, LaGrange\, IN\, 46746\, United States
ATTACH;FMTTYPE=image/jpeg:https://thegaragelagrange.com/wp-content/uploads/2025/10/Club-Hope.jpg
END:VEVENT
END:VCALENDAR