BEGIN:VCALENDAR
VERSION:2.0
PRODID:-//The Garage Community Center - ECPv6.15.17.1//NONSGML v1.0//EN
CALSCALE:GREGORIAN
METHOD:PUBLISH
X-WR-CALNAME:The Garage Community Center
X-ORIGINAL-URL:https://thegaragelagrange.com
X-WR-CALDESC:Events for The Garage Community Center
REFRESH-INTERVAL;VALUE=DURATION:PT1H
X-Robots-Tag:noindex
X-PUBLISHED-TTL:PT1H
BEGIN:VTIMEZONE
TZID:America/Indiana/Indianapolis
BEGIN:DAYLIGHT
TZOFFSETFROM:-0500
TZOFFSETTO:-0400
TZNAME:EDT
DTSTART:20240310T070000
END:DAYLIGHT
BEGIN:STANDARD
TZOFFSETFROM:-0400
TZOFFSETTO:-0500
TZNAME:EST
DTSTART:20241103T060000
END:STANDARD
BEGIN:DAYLIGHT
TZOFFSETFROM:-0500
TZOFFSETTO:-0400
TZNAME:EDT
DTSTART:20250309T070000
END:DAYLIGHT
BEGIN:STANDARD
TZOFFSETFROM:-0400
TZOFFSETTO:-0500
TZNAME:EST
DTSTART:20251102T060000
END:STANDARD
BEGIN:DAYLIGHT
TZOFFSETFROM:-0500
TZOFFSETTO:-0400
TZNAME:EDT
DTSTART:20260308T070000
END:DAYLIGHT
BEGIN:STANDARD
TZOFFSETFROM:-0400
TZOFFSETTO:-0500
TZNAME:EST
DTSTART:20261101T060000
END:STANDARD
END:VTIMEZONE
BEGIN:VEVENT
DTSTART;TZID=America/Indiana/Indianapolis:20251002T153000
DTEND;TZID=America/Indiana/Indianapolis:20251002T190000
DTSTAMP:20260421T023846
CREATED:20250827T200004Z
LAST-MODIFIED:20251123T190640Z
UID:10002025-1759419000-1759431600@thegaragelagrange.com
SUMMARY:Club Hope After School Program
DESCRIPTION:
URL:https://thegaragelagrange.com/event/club-hope-after-school-program/2025-10-02/
LOCATION:IN
ATTACH;FMTTYPE=image/jpeg:https://thegaragelagrange.com/wp-content/uploads/2025/10/Club-Hope.jpg
END:VEVENT
BEGIN:VEVENT
DTSTART;TZID=America/Indiana/Indianapolis:20251009T153000
DTEND;TZID=America/Indiana/Indianapolis:20251009T190000
DTSTAMP:20260421T023846
CREATED:20250827T200004Z
LAST-MODIFIED:20251123T190640Z
UID:10002026-1760023800-1760036400@thegaragelagrange.com
SUMMARY:Club Hope After School Program
DESCRIPTION:
URL:https://thegaragelagrange.com/event/club-hope-after-school-program/2025-10-09/
LOCATION:IN
ATTACH;FMTTYPE=image/jpeg:https://thegaragelagrange.com/wp-content/uploads/2025/10/Club-Hope.jpg
END:VEVENT
BEGIN:VEVENT
DTSTART;TZID=America/Indiana/Indianapolis:20251016T153000
DTEND;TZID=America/Indiana/Indianapolis:20251016T190000
DTSTAMP:20260421T023846
CREATED:20250827T200004Z
LAST-MODIFIED:20251123T190640Z
UID:10002027-1760628600-1760641200@thegaragelagrange.com
SUMMARY:Club Hope After School Program
DESCRIPTION:
URL:https://thegaragelagrange.com/event/club-hope-after-school-program/2025-10-16/
LOCATION:IN
ATTACH;FMTTYPE=image/jpeg:https://thegaragelagrange.com/wp-content/uploads/2025/10/Club-Hope.jpg
END:VEVENT
BEGIN:VEVENT
DTSTART;TZID=America/Indiana/Indianapolis:20251023T153000
DTEND;TZID=America/Indiana/Indianapolis:20251023T190000
DTSTAMP:20260421T023846
CREATED:20250827T200004Z
LAST-MODIFIED:20251123T190640Z
UID:10002028-1761233400-1761246000@thegaragelagrange.com
SUMMARY:Club Hope After School Program
DESCRIPTION:
URL:https://thegaragelagrange.com/event/club-hope-after-school-program/2025-10-23/
LOCATION:IN
ATTACH;FMTTYPE=image/jpeg:https://thegaragelagrange.com/wp-content/uploads/2025/10/Club-Hope.jpg
END:VEVENT
BEGIN:VEVENT
DTSTART;TZID=America/Indiana/Indianapolis:20251030T153000
DTEND;TZID=America/Indiana/Indianapolis:20251030T190000
DTSTAMP:20260421T023846
CREATED:20250827T200004Z
LAST-MODIFIED:20251123T190640Z
UID:10002029-1761838200-1761850800@thegaragelagrange.com
SUMMARY:Club Hope After School Program
DESCRIPTION:
URL:https://thegaragelagrange.com/event/club-hope-after-school-program/2025-10-30/
LOCATION:IN
ATTACH;FMTTYPE=image/jpeg:https://thegaragelagrange.com/wp-content/uploads/2025/10/Club-Hope.jpg
END:VEVENT
END:VCALENDAR