BEGIN:VCALENDAR
VERSION:2.0
PRODID:-//The Garage Community Center - ECPv6.15.17.1//NONSGML v1.0//EN
CALSCALE:GREGORIAN
METHOD:PUBLISH
X-ORIGINAL-URL:https://thegaragelagrange.com
X-WR-CALDESC:Events for The Garage Community Center
REFRESH-INTERVAL;VALUE=DURATION:PT1H
X-Robots-Tag:noindex
X-PUBLISHED-TTL:PT1H
BEGIN:VTIMEZONE
TZID:America/Indiana/Indianapolis
BEGIN:DAYLIGHT
TZOFFSETFROM:-0500
TZOFFSETTO:-0400
TZNAME:EDT
DTSTART:20240310T070000
END:DAYLIGHT
BEGIN:STANDARD
TZOFFSETFROM:-0400
TZOFFSETTO:-0500
TZNAME:EST
DTSTART:20241103T060000
END:STANDARD
BEGIN:DAYLIGHT
TZOFFSETFROM:-0500
TZOFFSETTO:-0400
TZNAME:EDT
DTSTART:20250309T070000
END:DAYLIGHT
BEGIN:STANDARD
TZOFFSETFROM:-0400
TZOFFSETTO:-0500
TZNAME:EST
DTSTART:20251102T060000
END:STANDARD
BEGIN:DAYLIGHT
TZOFFSETFROM:-0500
TZOFFSETTO:-0400
TZNAME:EDT
DTSTART:20260308T070000
END:DAYLIGHT
BEGIN:STANDARD
TZOFFSETFROM:-0400
TZOFFSETTO:-0500
TZNAME:EST
DTSTART:20261101T060000
END:STANDARD
END:VTIMEZONE
BEGIN:VEVENT
DTSTART;TZID=America/Indiana/Indianapolis:20250306T153000
DTEND;TZID=America/Indiana/Indianapolis:20250306T200000
DTSTAMP:20260421T184220
CREATED:20240927T161336Z
LAST-MODIFIED:20251123T190648Z
UID:10001399-1741275000-1741291200@thegaragelagrange.com
SUMMARY:Club Hope by: Reason 4 Hope
DESCRIPTION:
URL:https://thegaragelagrange.com/event/club-hope-by-reason-4-hope/2025-03-06/
LOCATION:The Garage\, 111 W Lafayette St.\, LaGrange\, IN\, 46746\, United States
END:VEVENT
BEGIN:VEVENT
DTSTART;TZID=America/Indiana/Indianapolis:20250313T153000
DTEND;TZID=America/Indiana/Indianapolis:20250313T200000
DTSTAMP:20260421T184220
CREATED:20240927T161336Z
LAST-MODIFIED:20251123T190648Z
UID:10001400-1741879800-1741896000@thegaragelagrange.com
SUMMARY:Club Hope by: Reason 4 Hope
DESCRIPTION:
URL:https://thegaragelagrange.com/event/club-hope-by-reason-4-hope/2025-03-13/
LOCATION:The Garage\, 111 W Lafayette St.\, LaGrange\, IN\, 46746\, United States
END:VEVENT
BEGIN:VEVENT
DTSTART;TZID=America/Indiana/Indianapolis:20250320T153000
DTEND;TZID=America/Indiana/Indianapolis:20250320T200000
DTSTAMP:20260421T184220
CREATED:20240927T161336Z
LAST-MODIFIED:20251123T190648Z
UID:10001401-1742484600-1742500800@thegaragelagrange.com
SUMMARY:Club Hope by: Reason 4 Hope
DESCRIPTION:
URL:https://thegaragelagrange.com/event/club-hope-by-reason-4-hope/2025-03-20/
LOCATION:The Garage\, 111 W Lafayette St.\, LaGrange\, IN\, 46746\, United States
END:VEVENT
BEGIN:VEVENT
DTSTART;TZID=America/Indiana/Indianapolis:20250327T153000
DTEND;TZID=America/Indiana/Indianapolis:20250327T200000
DTSTAMP:20260421T184220
CREATED:20240927T161336Z
LAST-MODIFIED:20251123T190648Z
UID:10001402-1743089400-1743105600@thegaragelagrange.com
SUMMARY:Club Hope by: Reason 4 Hope
DESCRIPTION:
URL:https://thegaragelagrange.com/event/club-hope-by-reason-4-hope/2025-03-27/
LOCATION:The Garage\, 111 W Lafayette St.\, LaGrange\, IN\, 46746\, United States
END:VEVENT
END:VCALENDAR