BEGIN:VCALENDAR
VERSION:2.0
PRODID:-//The Garage Community Center - ECPv6.15.17.1//NONSGML v1.0//EN
CALSCALE:GREGORIAN
METHOD:PUBLISH
X-WR-CALNAME:The Garage Community Center
X-ORIGINAL-URL:https://thegaragelagrange.com
X-WR-CALDESC:Events for The Garage Community Center
REFRESH-INTERVAL;VALUE=DURATION:PT1H
X-Robots-Tag:noindex
X-PUBLISHED-TTL:PT1H
BEGIN:VTIMEZONE
TZID:America/Indiana/Indianapolis
BEGIN:DAYLIGHT
TZOFFSETFROM:-0500
TZOFFSETTO:-0400
TZNAME:EDT
DTSTART:20240310T070000
END:DAYLIGHT
BEGIN:STANDARD
TZOFFSETFROM:-0400
TZOFFSETTO:-0500
TZNAME:EST
DTSTART:20241103T060000
END:STANDARD
BEGIN:DAYLIGHT
TZOFFSETFROM:-0500
TZOFFSETTO:-0400
TZNAME:EDT
DTSTART:20250309T070000
END:DAYLIGHT
BEGIN:STANDARD
TZOFFSETFROM:-0400
TZOFFSETTO:-0500
TZNAME:EST
DTSTART:20251102T060000
END:STANDARD
BEGIN:DAYLIGHT
TZOFFSETFROM:-0500
TZOFFSETTO:-0400
TZNAME:EDT
DTSTART:20260308T070000
END:DAYLIGHT
BEGIN:STANDARD
TZOFFSETFROM:-0400
TZOFFSETTO:-0500
TZNAME:EST
DTSTART:20261101T060000
END:STANDARD
END:VTIMEZONE
BEGIN:VEVENT
DTSTART;TZID=America/Indiana/Indianapolis:20250206T153000
DTEND;TZID=America/Indiana/Indianapolis:20250206T200000
DTSTAMP:20260423T060411
CREATED:20240927T161336Z
LAST-MODIFIED:20251123T190648Z
UID:10001395-1738855800-1738872000@thegaragelagrange.com
SUMMARY:Club Hope by: Reason 4 Hope
DESCRIPTION:
URL:https://thegaragelagrange.com/event/club-hope-by-reason-4-hope/2025-02-06/
LOCATION:The Garage\, 111 W Lafayette St.\, LaGrange\, IN\, 46746\, United States
END:VEVENT
BEGIN:VEVENT
DTSTART;TZID=America/Indiana/Indianapolis:20250213T153000
DTEND;TZID=America/Indiana/Indianapolis:20250213T200000
DTSTAMP:20260423T060411
CREATED:20240927T161336Z
LAST-MODIFIED:20251123T190648Z
UID:10001396-1739460600-1739476800@thegaragelagrange.com
SUMMARY:Club Hope by: Reason 4 Hope
DESCRIPTION:
URL:https://thegaragelagrange.com/event/club-hope-by-reason-4-hope/2025-02-13/
LOCATION:The Garage\, 111 W Lafayette St.\, LaGrange\, IN\, 46746\, United States
END:VEVENT
BEGIN:VEVENT
DTSTART;TZID=America/Indiana/Indianapolis:20250220T153000
DTEND;TZID=America/Indiana/Indianapolis:20250220T200000
DTSTAMP:20260423T060411
CREATED:20240927T161336Z
LAST-MODIFIED:20251123T190648Z
UID:10001397-1740065400-1740081600@thegaragelagrange.com
SUMMARY:Club Hope by: Reason 4 Hope
DESCRIPTION:
URL:https://thegaragelagrange.com/event/club-hope-by-reason-4-hope/2025-02-20/
LOCATION:The Garage\, 111 W Lafayette St.\, LaGrange\, IN\, 46746\, United States
END:VEVENT
BEGIN:VEVENT
DTSTART;TZID=America/Indiana/Indianapolis:20250227T153000
DTEND;TZID=America/Indiana/Indianapolis:20250227T200000
DTSTAMP:20260423T060411
CREATED:20240927T161336Z
LAST-MODIFIED:20251123T190648Z
UID:10001398-1740670200-1740686400@thegaragelagrange.com
SUMMARY:Club Hope by: Reason 4 Hope
DESCRIPTION:
URL:https://thegaragelagrange.com/event/club-hope-by-reason-4-hope/2025-02-27/
LOCATION:The Garage\, 111 W Lafayette St.\, LaGrange\, IN\, 46746\, United States
END:VEVENT
END:VCALENDAR