BEGIN:VCALENDAR
VERSION:2.0
PRODID:-//The Garage Community Center - ECPv6.15.17.1//NONSGML v1.0//EN
CALSCALE:GREGORIAN
METHOD:PUBLISH
X-ORIGINAL-URL:https://thegaragelagrange.com
X-WR-CALDESC:Events for The Garage Community Center
REFRESH-INTERVAL;VALUE=DURATION:PT1H
X-Robots-Tag:noindex
X-PUBLISHED-TTL:PT1H
BEGIN:VTIMEZONE
TZID:America/Indiana/Indianapolis
BEGIN:DAYLIGHT
TZOFFSETFROM:-0500
TZOFFSETTO:-0400
TZNAME:EDT
DTSTART:20220313T070000
END:DAYLIGHT
BEGIN:STANDARD
TZOFFSETFROM:-0400
TZOFFSETTO:-0500
TZNAME:EST
DTSTART:20221106T060000
END:STANDARD
BEGIN:DAYLIGHT
TZOFFSETFROM:-0500
TZOFFSETTO:-0400
TZNAME:EDT
DTSTART:20230312T070000
END:DAYLIGHT
BEGIN:STANDARD
TZOFFSETFROM:-0400
TZOFFSETTO:-0500
TZNAME:EST
DTSTART:20231105T060000
END:STANDARD
BEGIN:DAYLIGHT
TZOFFSETFROM:-0500
TZOFFSETTO:-0400
TZNAME:EDT
DTSTART:20240310T070000
END:DAYLIGHT
BEGIN:STANDARD
TZOFFSETFROM:-0400
TZOFFSETTO:-0500
TZNAME:EST
DTSTART:20241103T060000
END:STANDARD
END:VTIMEZONE
BEGIN:VEVENT
DTSTART;TZID=America/Indiana/Indianapolis:20231102T151500
DTEND;TZID=America/Indiana/Indianapolis:20231102T190000
DTSTAMP:20260424T172656
CREATED:20230907T181553Z
LAST-MODIFIED:20251123T190654Z
UID:10000279-1698938100-1698951600@thegaragelagrange.com
SUMMARY:Club Hope
DESCRIPTION:After school program for grades 7-12 \n3:15pm – 7:00pm \nHeld on the following 2023 dates: 9/14\, 9/21\, 9/28\, 10/12\, 10/19\, 10/26\, 11/2\, 11/9\, 11/16\,11/30\, 12/7\, 12/14\, 12/21
URL:https://thegaragelagrange.com/event/club-hope/2023-11-02/
LOCATION:The Garage\, 111 W Lafayette St.\, LaGrange\, IN\, 46746\, United States
END:VEVENT
BEGIN:VEVENT
DTSTART;TZID=America/Indiana/Indianapolis:20231109T151500
DTEND;TZID=America/Indiana/Indianapolis:20231109T190000
DTSTAMP:20260424T172656
CREATED:20230907T181553Z
LAST-MODIFIED:20251123T190654Z
UID:10000280-1699542900-1699556400@thegaragelagrange.com
SUMMARY:Club Hope
DESCRIPTION:After school program for grades 7-12 \n3:15pm – 7:00pm \nHeld on the following 2023 dates: 9/14\, 9/21\, 9/28\, 10/12\, 10/19\, 10/26\, 11/2\, 11/9\, 11/16\,11/30\, 12/7\, 12/14\, 12/21
URL:https://thegaragelagrange.com/event/club-hope/2023-11-09/
LOCATION:The Garage\, 111 W Lafayette St.\, LaGrange\, IN\, 46746\, United States
END:VEVENT
BEGIN:VEVENT
DTSTART;TZID=America/Indiana/Indianapolis:20231116T151500
DTEND;TZID=America/Indiana/Indianapolis:20231116T190000
DTSTAMP:20260424T172656
CREATED:20230907T181553Z
LAST-MODIFIED:20251123T190654Z
UID:10000281-1700147700-1700161200@thegaragelagrange.com
SUMMARY:Club Hope
DESCRIPTION:After school program for grades 7-12 \n3:15pm – 7:00pm \nHeld on the following 2023 dates: 9/14\, 9/21\, 9/28\, 10/12\, 10/19\, 10/26\, 11/2\, 11/9\, 11/16\,11/30\, 12/7\, 12/14\, 12/21
URL:https://thegaragelagrange.com/event/club-hope/2023-11-16/
LOCATION:The Garage\, 111 W Lafayette St.\, LaGrange\, IN\, 46746\, United States
END:VEVENT
BEGIN:VEVENT
DTSTART;TZID=America/Indiana/Indianapolis:20231130T151500
DTEND;TZID=America/Indiana/Indianapolis:20231130T190000
DTSTAMP:20260424T172656
CREATED:20230907T181553Z
LAST-MODIFIED:20251123T190654Z
UID:10000283-1701357300-1701370800@thegaragelagrange.com
SUMMARY:Club Hope
DESCRIPTION:After school program for grades 7-12 \n3:15pm – 7:00pm \nHeld on the following 2023 dates: 9/14\, 9/21\, 9/28\, 10/12\, 10/19\, 10/26\, 11/2\, 11/9\, 11/16\,11/30\, 12/7\, 12/14\, 12/21
URL:https://thegaragelagrange.com/event/club-hope/2023-11-30/
LOCATION:The Garage\, 111 W Lafayette St.\, LaGrange\, IN\, 46746\, United States
END:VEVENT
END:VCALENDAR