BEGIN:VCALENDAR
VERSION:2.0
PRODID:-//The Garage Community Center - ECPv6.15.17.1//NONSGML v1.0//EN
CALSCALE:GREGORIAN
METHOD:PUBLISH
X-ORIGINAL-URL:https://thegaragelagrange.com
X-WR-CALDESC:Events for The Garage Community Center
REFRESH-INTERVAL;VALUE=DURATION:PT1H
X-Robots-Tag:noindex
X-PUBLISHED-TTL:PT1H
BEGIN:VTIMEZONE
TZID:America/Indiana/Indianapolis
BEGIN:DAYLIGHT
TZOFFSETFROM:-0500
TZOFFSETTO:-0400
TZNAME:EDT
DTSTART:20250309T070000
END:DAYLIGHT
BEGIN:STANDARD
TZOFFSETFROM:-0400
TZOFFSETTO:-0500
TZNAME:EST
DTSTART:20251102T060000
END:STANDARD
BEGIN:DAYLIGHT
TZOFFSETFROM:-0500
TZOFFSETTO:-0400
TZNAME:EDT
DTSTART:20260308T070000
END:DAYLIGHT
BEGIN:STANDARD
TZOFFSETFROM:-0400
TZOFFSETTO:-0500
TZNAME:EST
DTSTART:20261101T060000
END:STANDARD
BEGIN:DAYLIGHT
TZOFFSETFROM:-0500
TZOFFSETTO:-0400
TZNAME:EDT
DTSTART:20270314T070000
END:DAYLIGHT
BEGIN:STANDARD
TZOFFSETFROM:-0400
TZOFFSETTO:-0500
TZNAME:EST
DTSTART:20271107T060000
END:STANDARD
END:VTIMEZONE
BEGIN:VEVENT
DTSTART;TZID=America/Indiana/Indianapolis:20260421T163000
DTEND;TZID=America/Indiana/Indianapolis:20260421T190000
DTSTAMP:20260421T070509
CREATED:20260207T034654Z
LAST-MODIFIED:20260326T200150Z
UID:10002485-1776789000-1776798000@thegaragelagrange.com
SUMMARY:Community Serving Community Free Dinner
DESCRIPTION:Hungry? No time to cook? Hate eating alone? \nWant to catch up with friends\, family\, and neighbors? \nRunning short on grocery money? \nMiss our smiling faces? \nNo matter the reason\, this dinner is for YOU! \nJoin us for our next monthly Free Community Serving Community Dinner on Tuesday\, April 21st\, from 4:30 PM to 7:00 PM! \nWe’ll be serving a delicious meal of lasagna\, bread\, tossed salad\, dessert\, and drinks—all at no cost and open to everyone. \nThis month’s dinner is sponsored by LaGrange First Church of God in partnership with The Garage\, bringing our community together one shared meal at a time. \nCome eat\, relax\, visit\, and enjoy the company of your neighbors.\nThere’s always a seat for you at our table.
URL:https://thegaragelagrange.com/event/community-serving-community-free-dinner-042026/
LOCATION:The Garage\, 111 W Lafayette St.\, LaGrange\, IN\, 46746\, United States
CATEGORIES:Community
ATTACH;FMTTYPE=image/png:https://thegaragelagrange.com/wp-content/uploads/2026/02/April-Dinner.png
END:VEVENT
BEGIN:VEVENT
DTSTART;TZID=America/Indiana/Indianapolis:20260422T110000
DTEND;TZID=America/Indiana/Indianapolis:20260422T140000
DTSTAMP:20260421T070509
CREATED:20260326T151727Z
LAST-MODIFIED:20260326T151727Z
UID:10002539-1776855600-1776866400@thegaragelagrange.com
SUMMARY:The Chamber's Woman2Woman Round Table
DESCRIPTION:
URL:https://thegaragelagrange.com/event/the-chambers-woman2woman-round-table-4/
LOCATION:The Garage\, 111 W Lafayette St.\, LaGrange\, IN\, 46746\, United States
CATEGORIES:Community
END:VEVENT
BEGIN:VEVENT
DTSTART;TZID=America/Indiana/Indianapolis:20260423T153000
DTEND;TZID=America/Indiana/Indianapolis:20260423T190000
DTSTAMP:20260421T070509
CREATED:20250827T200004Z
LAST-MODIFIED:20251123T190640Z
UID:10002054-1776958200-1776970800@thegaragelagrange.com
SUMMARY:Club Hope After School Program
DESCRIPTION:
URL:https://thegaragelagrange.com/event/club-hope-after-school-program/2026-04-23/
LOCATION:IN
ATTACH;FMTTYPE=image/jpeg:https://thegaragelagrange.com/wp-content/uploads/2025/10/Club-Hope.jpg
END:VEVENT
BEGIN:VEVENT
DTSTART;TZID=America/Indiana/Indianapolis:20260425T080000
DTEND;TZID=America/Indiana/Indianapolis:20260425T233000
DTSTAMP:20260421T070509
CREATED:20260326T152014Z
LAST-MODIFIED:20260326T152014Z
UID:10002540-1777104000-1777159800@thegaragelagrange.com
SUMMARY:Private Rental
DESCRIPTION:
URL:https://thegaragelagrange.com/event/private-rental-49/
LOCATION:The Garage\, 111 W Lafayette St.\, LaGrange\, IN\, 46746\, United States
CATEGORIES:Private
ATTACH;FMTTYPE=image/jpeg:https://thegaragelagrange.com/wp-content/uploads/2025/11/Private-Rubber-Stamp-17-01-scaled.jpg
END:VEVENT
BEGIN:VEVENT
DTSTART;TZID=America/Indiana/Indianapolis:20260426T080000
DTEND;TZID=America/Indiana/Indianapolis:20260426T233000
DTSTAMP:20260421T070509
CREATED:20260221T070639Z
LAST-MODIFIED:20260221T070639Z
UID:10002525-1777190400-1777246200@thegaragelagrange.com
SUMMARY:Private Rental
DESCRIPTION:
URL:https://thegaragelagrange.com/event/private-rental-20260426/
LOCATION:The Garage\, 111 W Lafayette St.\, LaGrange\, IN\, 46746\, United States
CATEGORIES:Private
ATTACH;FMTTYPE=image/jpeg:https://thegaragelagrange.com/wp-content/uploads/2025/11/Private-Rubber-Stamp-17-01-scaled.jpg
END:VEVENT
BEGIN:VEVENT
DTSTART;TZID=America/Indiana/Indianapolis:20260427T170000
DTEND;TZID=America/Indiana/Indianapolis:20260427T200000
DTSTAMP:20260421T070509
CREATED:20251022T212008Z
LAST-MODIFIED:20251024T104938Z
UID:10002019-1777309200-1777320000@thegaragelagrange.com
SUMMARY:Campus Life
DESCRIPTION:
URL:https://thegaragelagrange.com/event/campus-life/2026-04-27/
LOCATION:The Garage\, 111 W Lafayette St.\, LaGrange\, IN\, 46746\, United States
END:VEVENT
BEGIN:VEVENT
DTSTART;TZID=America/Indiana/Indianapolis:20260428T120000
DTEND;TZID=America/Indiana/Indianapolis:20260428T180000
DTSTAMP:20260421T070509
CREATED:20260207T040408Z
LAST-MODIFIED:20260207T040553Z
UID:10002487-1777377600-1777399200@thegaragelagrange.com
SUMMARY:Versiti Blood Drive
DESCRIPTION:
URL:https://thegaragelagrange.com/event/versiti-blood-drive-04282026/
LOCATION:The Garage\, 111 W Lafayette St.\, LaGrange\, IN\, 46746\, United States
CATEGORIES:Community
ATTACH;FMTTYPE=image/jpeg:https://thegaragelagrange.com/wp-content/uploads/2026/02/Blood-Drive-0428.jpg
ORGANIZER;CN="Kimberly Hays":MAILTO:butterfly46761@yahoo.com
END:VEVENT
BEGIN:VEVENT
DTSTART;TZID=America/Indiana/Indianapolis:20260429T080000
DTEND;TZID=America/Indiana/Indianapolis:20260429T233000
DTSTAMP:20260421T070509
CREATED:20260326T152125Z
LAST-MODIFIED:20260326T152125Z
UID:10002541-1777449600-1777505400@thegaragelagrange.com
SUMMARY:Private Rental
DESCRIPTION:
URL:https://thegaragelagrange.com/event/private-rental-50/
LOCATION:The Garage\, 111 W Lafayette St.\, LaGrange\, IN\, 46746\, United States
CATEGORIES:Private
ATTACH;FMTTYPE=image/jpeg:https://thegaragelagrange.com/wp-content/uploads/2025/11/Private-Rubber-Stamp-17-01-scaled.jpg
END:VEVENT
BEGIN:VEVENT
DTSTART;TZID=America/Indiana/Indianapolis:20260430T070000
DTEND;TZID=America/Indiana/Indianapolis:20260430T120000
DTSTAMP:20260421T070509
CREATED:20260326T152604Z
LAST-MODIFIED:20260326T152604Z
UID:10002542-1777532400-1777550400@thegaragelagrange.com
SUMMARY:The Chamber's Legacy Launchpad
DESCRIPTION:
URL:https://thegaragelagrange.com/event/the-chambers-legacy-launchpad/
LOCATION:The Garage\, 111 W Lafayette St.\, LaGrange\, IN\, 46746\, United States
CATEGORIES:Community
END:VEVENT
BEGIN:VEVENT
DTSTART;TZID=America/Indiana/Indianapolis:20260430T153000
DTEND;TZID=America/Indiana/Indianapolis:20260430T190000
DTSTAMP:20260421T070509
CREATED:20250827T200004Z
LAST-MODIFIED:20251123T190640Z
UID:10002055-1777563000-1777575600@thegaragelagrange.com
SUMMARY:Club Hope After School Program
DESCRIPTION:
URL:https://thegaragelagrange.com/event/club-hope-after-school-program/2026-04-30/
LOCATION:IN
ATTACH;FMTTYPE=image/jpeg:https://thegaragelagrange.com/wp-content/uploads/2025/10/Club-Hope.jpg
END:VEVENT
END:VCALENDAR